BEGIN:VCALENDAR
VERSION:2.0
PRODID:-//Lust - ECPv6.15.20//NONSGML v1.0//EN
CALSCALE:GREGORIAN
METHOD:PUBLISH
X-ORIGINAL-URL:https://lusttwo.3rfocuslabs.com
X-WR-CALDESC:Events for Lust
REFRESH-INTERVAL;VALUE=DURATION:PT1H
X-Robots-Tag:noindex
X-PUBLISHED-TTL:PT1H
BEGIN:VTIMEZONE
TZID:America/New_York
BEGIN:DAYLIGHT
TZOFFSETFROM:-0500
TZOFFSETTO:-0400
TZNAME:EDT
DTSTART:20250309T070000
END:DAYLIGHT
BEGIN:STANDARD
TZOFFSETFROM:-0400
TZOFFSETTO:-0500
TZNAME:EST
DTSTART:20251102T060000
END:STANDARD
BEGIN:DAYLIGHT
TZOFFSETFROM:-0500
TZOFFSETTO:-0400
TZNAME:EDT
DTSTART:20260308T070000
END:DAYLIGHT
BEGIN:STANDARD
TZOFFSETFROM:-0400
TZOFFSETTO:-0500
TZNAME:EST
DTSTART:20261101T060000
END:STANDARD
BEGIN:DAYLIGHT
TZOFFSETFROM:-0500
TZOFFSETTO:-0400
TZNAME:EDT
DTSTART:20270314T070000
END:DAYLIGHT
BEGIN:STANDARD
TZOFFSETFROM:-0400
TZOFFSETTO:-0500
TZNAME:EST
DTSTART:20271107T060000
END:STANDARD
END:VTIMEZONE
BEGIN:VEVENT
DTSTART;VALUE=DATE:20260425
DTEND;VALUE=DATE:20260426
DTSTAMP:20260421T223300
CREATED:20260420T195742Z
LAST-MODIFIED:20260420T195742Z
UID:10005497-1777075200-1777161599@lusttwo.3rfocuslabs.com
SUMMARY:Private Topless Pool Parties @ Myrtle Beach
DESCRIPTION:Myrtle Beach… your party just found its upgrade 😏💦 Private Topless Pool Parties at Lust are bringing the heat ALL summer long. Perfect for: \nbirthdays 🎂 \nbachelorettes 💍 \nbachelor parties 🕺 \nor just an excuse to celebrate BIG with your crew. \n📍 Myrtle Beach Location ONLY. Reserve your pool party today
URL:https://lusttwo.3rfocuslabs.com/event/private-topless-pool-parties-myrtle-beach/2026-04-25/
LOCATION:Myrtle Beach\, 804 Seaboard St\, Myrtle Beach\, SC\, 29577\, United States
ATTACH;FMTTYPE=image/jpeg:https://lusttwo.3rfocuslabs.com/wp-content/uploads/2026/04/PoolParty8_25InstgramSq.jpg
END:VEVENT
BEGIN:VEVENT
DTSTART;TZID=America/New_York:20260425T190000
DTEND;TZID=America/New_York:20260425T190000
DTSTAMP:20260421T223300
CREATED:20260420T194519Z
LAST-MODIFIED:20260420T194531Z
UID:10001321-1777143600-1777143600@lusttwo.3rfocuslabs.com
SUMMARY:Taxi Promo @ Myrtle Beach
DESCRIPTION:🚕💸 DRIVERS\, THIS ONE’S FOR YOU 💸🚕 \nTaxi\, Uber\, Lyft… if you’ve got passengers\, you’ve got cash waiting for you at Lust 👀🔥 Bring your guests to the front door AFTER 7PM and get $10 PER PERSON!  \nPull up ➡️ drop off ➡️ check in with the manager ➡️ get PAID 💼✅ \nIt’s that easy. No catch. Just extra cash all night long. So next time you’ve got a ride looking for a good time… you already know where to take them. \n⏰ After 7PM only\n💵 $10 per guest\n🚗 Taxi • Uber • Lyft ALL welcome
URL:https://lusttwo.3rfocuslabs.com/event/taxi-promo/2026-04-25/
LOCATION:Myrtle Beach\, 804 Seaboard St\, Myrtle Beach\, SC\, 29577\, United States
ATTACH;FMTTYPE=image/jpeg:https://lusttwo.3rfocuslabs.com/wp-content/uploads/2026/04/1758390576363-d66746fc-9514-4abf-9b7d-e22cd4a20f5a_1.jpg
END:VEVENT
BEGIN:VEVENT
DTSTART;VALUE=DATE:20260426
DTEND;VALUE=DATE:20260427
DTSTAMP:20260421T223300
CREATED:20260420T195234Z
LAST-MODIFIED:20260420T195234Z
UID:10003671-1777161600-1777247999@lusttwo.3rfocuslabs.com
SUMMARY:Hookah Lounge @ Myrtle Beach
DESCRIPTION:💨🔥 ELEVATE YOUR NIGHT 🔥💨 \nStep into our FULL-SERVICE HOOKAH LOUNGE and turn your night into a whole experience 💃🍹 Reserve your VIP section today and make it a night worth remembering. Call to book your section today.
URL:https://lusttwo.3rfocuslabs.com/event/hookah-lounge-myrtle-beach/2026-04-26/
LOCATION:Myrtle Beach\, 804 Seaboard St\, Myrtle Beach\, SC\, 29577\, United States
ATTACH;FMTTYPE=image/jpeg:https://lusttwo.3rfocuslabs.com/wp-content/uploads/2026/04/LustHookah8_25InstgramSq.jpg
END:VEVENT
BEGIN:VEVENT
DTSTART;VALUE=DATE:20260426
DTEND;VALUE=DATE:20260427
DTSTAMP:20260421T223300
CREATED:20260420T195742Z
LAST-MODIFIED:20260420T195742Z
UID:10005498-1777161600-1777247999@lusttwo.3rfocuslabs.com
SUMMARY:Private Topless Pool Parties @ Myrtle Beach
DESCRIPTION:Myrtle Beach… your party just found its upgrade 😏💦 Private Topless Pool Parties at Lust are bringing the heat ALL summer long. Perfect for: \nbirthdays 🎂 \nbachelorettes 💍 \nbachelor parties 🕺 \nor just an excuse to celebrate BIG with your crew. \n📍 Myrtle Beach Location ONLY. Reserve your pool party today
URL:https://lusttwo.3rfocuslabs.com/event/private-topless-pool-parties-myrtle-beach/2026-04-26/
LOCATION:Myrtle Beach\, 804 Seaboard St\, Myrtle Beach\, SC\, 29577\, United States
ATTACH;FMTTYPE=image/jpeg:https://lusttwo.3rfocuslabs.com/wp-content/uploads/2026/04/PoolParty8_25InstgramSq.jpg
END:VEVENT
BEGIN:VEVENT
DTSTART;TZID=America/New_York:20260426T190000
DTEND;TZID=America/New_York:20260426T190000
DTSTAMP:20260421T223300
CREATED:20260420T194519Z
LAST-MODIFIED:20260420T194531Z
UID:10001322-1777230000-1777230000@lusttwo.3rfocuslabs.com
SUMMARY:Taxi Promo @ Myrtle Beach
DESCRIPTION:🚕💸 DRIVERS\, THIS ONE’S FOR YOU 💸🚕 \nTaxi\, Uber\, Lyft… if you’ve got passengers\, you’ve got cash waiting for you at Lust 👀🔥 Bring your guests to the front door AFTER 7PM and get $10 PER PERSON!  \nPull up ➡️ drop off ➡️ check in with the manager ➡️ get PAID 💼✅ \nIt’s that easy. No catch. Just extra cash all night long. So next time you’ve got a ride looking for a good time… you already know where to take them. \n⏰ After 7PM only\n💵 $10 per guest\n🚗 Taxi • Uber • Lyft ALL welcome
URL:https://lusttwo.3rfocuslabs.com/event/taxi-promo/2026-04-26/
LOCATION:Myrtle Beach\, 804 Seaboard St\, Myrtle Beach\, SC\, 29577\, United States
ATTACH;FMTTYPE=image/jpeg:https://lusttwo.3rfocuslabs.com/wp-content/uploads/2026/04/1758390576363-d66746fc-9514-4abf-9b7d-e22cd4a20f5a_1.jpg
END:VEVENT
BEGIN:VEVENT
DTSTART;VALUE=DATE:20260427
DTEND;VALUE=DATE:20260428
DTSTAMP:20260421T223300
CREATED:20260420T193605Z
LAST-MODIFIED:20260420T193605Z
UID:10000020-1777248000-1777334399@lusttwo.3rfocuslabs.com
SUMMARY:Money Mondays @ Martinsburg
DESCRIPTION:ONLY AT MARTINSBURG LUST GENTLEMEN’S CLUB!!  \nGet HALF OFF all food\, drinks\, and dances all day and all night.
URL:https://lusttwo.3rfocuslabs.com/event/money-mondays-martinsburg/2026-04-27/
LOCATION:Martinsburg\, 1110 Hedgesville Rd\, Martinsburg\, WV\, 25403\, United States
ATTACH;FMTTYPE=image/jpeg:https://lusttwo.3rfocuslabs.com/wp-content/uploads/2026/04/MONEY-MONDAYS-scaled.jpg
END:VEVENT
BEGIN:VEVENT
DTSTART;VALUE=DATE:20260427
DTEND;VALUE=DATE:20260428
DTSTAMP:20260421T223300
CREATED:20260420T195234Z
LAST-MODIFIED:20260420T195234Z
UID:10003672-1777248000-1777334399@lusttwo.3rfocuslabs.com
SUMMARY:Hookah Lounge @ Myrtle Beach
DESCRIPTION:💨🔥 ELEVATE YOUR NIGHT 🔥💨 \nStep into our FULL-SERVICE HOOKAH LOUNGE and turn your night into a whole experience 💃🍹 Reserve your VIP section today and make it a night worth remembering. Call to book your section today.
URL:https://lusttwo.3rfocuslabs.com/event/hookah-lounge-myrtle-beach/2026-04-27/
LOCATION:Myrtle Beach\, 804 Seaboard St\, Myrtle Beach\, SC\, 29577\, United States
ATTACH;FMTTYPE=image/jpeg:https://lusttwo.3rfocuslabs.com/wp-content/uploads/2026/04/LustHookah8_25InstgramSq.jpg
END:VEVENT
BEGIN:VEVENT
DTSTART;VALUE=DATE:20260427
DTEND;VALUE=DATE:20260428
DTSTAMP:20260421T223300
CREATED:20260420T195742Z
LAST-MODIFIED:20260420T195742Z
UID:10005499-1777248000-1777334399@lusttwo.3rfocuslabs.com
SUMMARY:Private Topless Pool Parties @ Myrtle Beach
DESCRIPTION:Myrtle Beach… your party just found its upgrade 😏💦 Private Topless Pool Parties at Lust are bringing the heat ALL summer long. Perfect for: \nbirthdays 🎂 \nbachelorettes 💍 \nbachelor parties 🕺 \nor just an excuse to celebrate BIG with your crew. \n📍 Myrtle Beach Location ONLY. Reserve your pool party today
URL:https://lusttwo.3rfocuslabs.com/event/private-topless-pool-parties-myrtle-beach/2026-04-27/
LOCATION:Myrtle Beach\, 804 Seaboard St\, Myrtle Beach\, SC\, 29577\, United States
ATTACH;FMTTYPE=image/jpeg:https://lusttwo.3rfocuslabs.com/wp-content/uploads/2026/04/PoolParty8_25InstgramSq.jpg
END:VEVENT
BEGIN:VEVENT
DTSTART;TZID=America/New_York:20260427T190000
DTEND;TZID=America/New_York:20260427T190000
DTSTAMP:20260421T223300
CREATED:20260420T194519Z
LAST-MODIFIED:20260420T194531Z
UID:10001323-1777316400-1777316400@lusttwo.3rfocuslabs.com
SUMMARY:Taxi Promo @ Myrtle Beach
DESCRIPTION:🚕💸 DRIVERS\, THIS ONE’S FOR YOU 💸🚕 \nTaxi\, Uber\, Lyft… if you’ve got passengers\, you’ve got cash waiting for you at Lust 👀🔥 Bring your guests to the front door AFTER 7PM and get $10 PER PERSON!  \nPull up ➡️ drop off ➡️ check in with the manager ➡️ get PAID 💼✅ \nIt’s that easy. No catch. Just extra cash all night long. So next time you’ve got a ride looking for a good time… you already know where to take them. \n⏰ After 7PM only\n💵 $10 per guest\n🚗 Taxi • Uber • Lyft ALL welcome
URL:https://lusttwo.3rfocuslabs.com/event/taxi-promo/2026-04-27/
LOCATION:Myrtle Beach\, 804 Seaboard St\, Myrtle Beach\, SC\, 29577\, United States
ATTACH;FMTTYPE=image/jpeg:https://lusttwo.3rfocuslabs.com/wp-content/uploads/2026/04/1758390576363-d66746fc-9514-4abf-9b7d-e22cd4a20f5a_1.jpg
END:VEVENT
BEGIN:VEVENT
DTSTART;VALUE=DATE:20260428
DTEND;VALUE=DATE:20260429
DTSTAMP:20260421T223300
CREATED:20260420T195234Z
LAST-MODIFIED:20260420T195234Z
UID:10003673-1777334400-1777420799@lusttwo.3rfocuslabs.com
SUMMARY:Hookah Lounge @ Myrtle Beach
DESCRIPTION:💨🔥 ELEVATE YOUR NIGHT 🔥💨 \nStep into our FULL-SERVICE HOOKAH LOUNGE and turn your night into a whole experience 💃🍹 Reserve your VIP section today and make it a night worth remembering. Call to book your section today.
URL:https://lusttwo.3rfocuslabs.com/event/hookah-lounge-myrtle-beach/2026-04-28/
LOCATION:Myrtle Beach\, 804 Seaboard St\, Myrtle Beach\, SC\, 29577\, United States
ATTACH;FMTTYPE=image/jpeg:https://lusttwo.3rfocuslabs.com/wp-content/uploads/2026/04/LustHookah8_25InstgramSq.jpg
END:VEVENT
BEGIN:VEVENT
DTSTART;VALUE=DATE:20260428
DTEND;VALUE=DATE:20260429
DTSTAMP:20260421T223300
CREATED:20260420T195742Z
LAST-MODIFIED:20260420T195742Z
UID:10005500-1777334400-1777420799@lusttwo.3rfocuslabs.com
SUMMARY:Private Topless Pool Parties @ Myrtle Beach
DESCRIPTION:Myrtle Beach… your party just found its upgrade 😏💦 Private Topless Pool Parties at Lust are bringing the heat ALL summer long. Perfect for: \nbirthdays 🎂 \nbachelorettes 💍 \nbachelor parties 🕺 \nor just an excuse to celebrate BIG with your crew. \n📍 Myrtle Beach Location ONLY. Reserve your pool party today
URL:https://lusttwo.3rfocuslabs.com/event/private-topless-pool-parties-myrtle-beach/2026-04-28/
LOCATION:Myrtle Beach\, 804 Seaboard St\, Myrtle Beach\, SC\, 29577\, United States
ATTACH;FMTTYPE=image/jpeg:https://lusttwo.3rfocuslabs.com/wp-content/uploads/2026/04/PoolParty8_25InstgramSq.jpg
END:VEVENT
BEGIN:VEVENT
DTSTART;TZID=America/New_York:20260428T180000
DTEND;TZID=America/New_York:20260428T190000
DTSTAMP:20260421T223300
CREATED:20260420T193945Z
LAST-MODIFIED:20260420T194010Z
UID:10000800-1777399200-1777402800@lusttwo.3rfocuslabs.com
SUMMARY:Power Hour @ Martinsburg
DESCRIPTION:ONLY AT MARTINSBURG LUST GENTLEMEN’S CLUB!!  \nEvery Tuesday & Thursday from 6pm – 7pm\, get in with NO COVER CHARGE… FOR ALL!
URL:https://lusttwo.3rfocuslabs.com/event/power-hour-martinsburg/2026-04-28/
LOCATION:Martinsburg\, 1110 Hedgesville Rd\, Martinsburg\, WV\, 25403\, United States
ATTACH;FMTTYPE=image/jpeg:https://lusttwo.3rfocuslabs.com/wp-content/uploads/2026/04/Power-Hour-scaled.jpg
END:VEVENT
BEGIN:VEVENT
DTSTART;TZID=America/New_York:20260428T190000
DTEND;TZID=America/New_York:20260428T190000
DTSTAMP:20260421T223300
CREATED:20260420T194519Z
LAST-MODIFIED:20260420T194531Z
UID:10001324-1777402800-1777402800@lusttwo.3rfocuslabs.com
SUMMARY:Taxi Promo @ Myrtle Beach
DESCRIPTION:🚕💸 DRIVERS\, THIS ONE’S FOR YOU 💸🚕 \nTaxi\, Uber\, Lyft… if you’ve got passengers\, you’ve got cash waiting for you at Lust 👀🔥 Bring your guests to the front door AFTER 7PM and get $10 PER PERSON!  \nPull up ➡️ drop off ➡️ check in with the manager ➡️ get PAID 💼✅ \nIt’s that easy. No catch. Just extra cash all night long. So next time you’ve got a ride looking for a good time… you already know where to take them. \n⏰ After 7PM only\n💵 $10 per guest\n🚗 Taxi • Uber • Lyft ALL welcome
URL:https://lusttwo.3rfocuslabs.com/event/taxi-promo/2026-04-28/
LOCATION:Myrtle Beach\, 804 Seaboard St\, Myrtle Beach\, SC\, 29577\, United States
ATTACH;FMTTYPE=image/jpeg:https://lusttwo.3rfocuslabs.com/wp-content/uploads/2026/04/1758390576363-d66746fc-9514-4abf-9b7d-e22cd4a20f5a_1.jpg
END:VEVENT
BEGIN:VEVENT
DTSTART;VALUE=DATE:20260429
DTEND;VALUE=DATE:20260430
DTSTAMP:20260421T223300
CREATED:20260420T194717Z
LAST-MODIFIED:20260420T194717Z
UID:10003144-1777420800-1777507199@lusttwo.3rfocuslabs.com
SUMMARY:Wet & Wild Wednesdays @ Myrtle Beach
DESCRIPTION:HALF OFF hot tub and shower shows ALL NIGHT LONG!! \nAvailable every Wednesday at both locations.
URL:https://lusttwo.3rfocuslabs.com/event/wet-wild-wednesdays-myrtle-beach/2026-04-29/
LOCATION:Myrtle Beach\, 804 Seaboard St\, Myrtle Beach\, SC\, 29577\, United States
ATTACH;FMTTYPE=image/jpeg:https://lusttwo.3rfocuslabs.com/wp-content/uploads/2026/04/1.jpg
END:VEVENT
BEGIN:VEVENT
DTSTART;VALUE=DATE:20260429
DTEND;VALUE=DATE:20260430
DTSTAMP:20260421T223300
CREATED:20260420T194759Z
LAST-MODIFIED:20260420T194759Z
UID:10003405-1777420800-1777507199@lusttwo.3rfocuslabs.com
SUMMARY:Wet & Wild Wednesdays @ Martinsburg
DESCRIPTION:HALF OFF hot tub and shower shows ALL NIGHT LONG!! \nAvailable every Wednesday at both locations.
URL:https://lusttwo.3rfocuslabs.com/event/wet-wild-wednesdays-martinsburg/2026-04-29/
LOCATION:Martinsburg\, 1110 Hedgesville Rd\, Martinsburg\, WV\, 25403\, United States
ATTACH;FMTTYPE=image/jpeg:https://lusttwo.3rfocuslabs.com/wp-content/uploads/2026/04/1.jpg
END:VEVENT
BEGIN:VEVENT
DTSTART;VALUE=DATE:20260429
DTEND;VALUE=DATE:20260430
DTSTAMP:20260421T223300
CREATED:20260420T195234Z
LAST-MODIFIED:20260420T195234Z
UID:10003674-1777420800-1777507199@lusttwo.3rfocuslabs.com
SUMMARY:Hookah Lounge @ Myrtle Beach
DESCRIPTION:💨🔥 ELEVATE YOUR NIGHT 🔥💨 \nStep into our FULL-SERVICE HOOKAH LOUNGE and turn your night into a whole experience 💃🍹 Reserve your VIP section today and make it a night worth remembering. Call to book your section today.
URL:https://lusttwo.3rfocuslabs.com/event/hookah-lounge-myrtle-beach/2026-04-29/
LOCATION:Myrtle Beach\, 804 Seaboard St\, Myrtle Beach\, SC\, 29577\, United States
ATTACH;FMTTYPE=image/jpeg:https://lusttwo.3rfocuslabs.com/wp-content/uploads/2026/04/LustHookah8_25InstgramSq.jpg
END:VEVENT
BEGIN:VEVENT
DTSTART;VALUE=DATE:20260429
DTEND;VALUE=DATE:20260430
DTSTAMP:20260421T223300
CREATED:20260420T195742Z
LAST-MODIFIED:20260420T195742Z
UID:10005501-1777420800-1777507199@lusttwo.3rfocuslabs.com
SUMMARY:Private Topless Pool Parties @ Myrtle Beach
DESCRIPTION:Myrtle Beach… your party just found its upgrade 😏💦 Private Topless Pool Parties at Lust are bringing the heat ALL summer long. Perfect for: \nbirthdays 🎂 \nbachelorettes 💍 \nbachelor parties 🕺 \nor just an excuse to celebrate BIG with your crew. \n📍 Myrtle Beach Location ONLY. Reserve your pool party today
URL:https://lusttwo.3rfocuslabs.com/event/private-topless-pool-parties-myrtle-beach/2026-04-29/
LOCATION:Myrtle Beach\, 804 Seaboard St\, Myrtle Beach\, SC\, 29577\, United States
ATTACH;FMTTYPE=image/jpeg:https://lusttwo.3rfocuslabs.com/wp-content/uploads/2026/04/PoolParty8_25InstgramSq.jpg
END:VEVENT
BEGIN:VEVENT
DTSTART;TZID=America/New_York:20260429T190000
DTEND;TZID=America/New_York:20260429T190000
DTSTAMP:20260421T223300
CREATED:20260420T194519Z
LAST-MODIFIED:20260420T194531Z
UID:10001325-1777489200-1777489200@lusttwo.3rfocuslabs.com
SUMMARY:Taxi Promo @ Myrtle Beach
DESCRIPTION:🚕💸 DRIVERS\, THIS ONE’S FOR YOU 💸🚕 \nTaxi\, Uber\, Lyft… if you’ve got passengers\, you’ve got cash waiting for you at Lust 👀🔥 Bring your guests to the front door AFTER 7PM and get $10 PER PERSON!  \nPull up ➡️ drop off ➡️ check in with the manager ➡️ get PAID 💼✅ \nIt’s that easy. No catch. Just extra cash all night long. So next time you’ve got a ride looking for a good time… you already know where to take them. \n⏰ After 7PM only\n💵 $10 per guest\n🚗 Taxi • Uber • Lyft ALL welcome
URL:https://lusttwo.3rfocuslabs.com/event/taxi-promo/2026-04-29/
LOCATION:Myrtle Beach\, 804 Seaboard St\, Myrtle Beach\, SC\, 29577\, United States
ATTACH;FMTTYPE=image/jpeg:https://lusttwo.3rfocuslabs.com/wp-content/uploads/2026/04/1758390576363-d66746fc-9514-4abf-9b7d-e22cd4a20f5a_1.jpg
END:VEVENT
BEGIN:VEVENT
DTSTART;VALUE=DATE:20260430
DTEND;VALUE=DATE:20260501
DTSTAMP:20260421T223300
CREATED:20260420T195234Z
LAST-MODIFIED:20260420T195234Z
UID:10003675-1777507200-1777593599@lusttwo.3rfocuslabs.com
SUMMARY:Hookah Lounge @ Myrtle Beach
DESCRIPTION:💨🔥 ELEVATE YOUR NIGHT 🔥💨 \nStep into our FULL-SERVICE HOOKAH LOUNGE and turn your night into a whole experience 💃🍹 Reserve your VIP section today and make it a night worth remembering. Call to book your section today.
URL:https://lusttwo.3rfocuslabs.com/event/hookah-lounge-myrtle-beach/2026-04-30/
LOCATION:Myrtle Beach\, 804 Seaboard St\, Myrtle Beach\, SC\, 29577\, United States
ATTACH;FMTTYPE=image/jpeg:https://lusttwo.3rfocuslabs.com/wp-content/uploads/2026/04/LustHookah8_25InstgramSq.jpg
END:VEVENT
BEGIN:VEVENT
DTSTART;VALUE=DATE:20260430
DTEND;VALUE=DATE:20260501
DTSTAMP:20260421T223300
CREATED:20260420T195742Z
LAST-MODIFIED:20260420T195742Z
UID:10005502-1777507200-1777593599@lusttwo.3rfocuslabs.com
SUMMARY:Private Topless Pool Parties @ Myrtle Beach
DESCRIPTION:Myrtle Beach… your party just found its upgrade 😏💦 Private Topless Pool Parties at Lust are bringing the heat ALL summer long. Perfect for: \nbirthdays 🎂 \nbachelorettes 💍 \nbachelor parties 🕺 \nor just an excuse to celebrate BIG with your crew. \n📍 Myrtle Beach Location ONLY. Reserve your pool party today
URL:https://lusttwo.3rfocuslabs.com/event/private-topless-pool-parties-myrtle-beach/2026-04-30/
LOCATION:Myrtle Beach\, 804 Seaboard St\, Myrtle Beach\, SC\, 29577\, United States
ATTACH;FMTTYPE=image/jpeg:https://lusttwo.3rfocuslabs.com/wp-content/uploads/2026/04/PoolParty8_25InstgramSq.jpg
END:VEVENT
BEGIN:VEVENT
DTSTART;TZID=America/New_York:20260430T180000
DTEND;TZID=America/New_York:20260430T190000
DTSTAMP:20260421T223300
CREATED:20260420T193945Z
LAST-MODIFIED:20260420T194010Z
UID:10000801-1777572000-1777575600@lusttwo.3rfocuslabs.com
SUMMARY:Power Hour @ Martinsburg
DESCRIPTION:ONLY AT MARTINSBURG LUST GENTLEMEN’S CLUB!!  \nEvery Tuesday & Thursday from 6pm – 7pm\, get in with NO COVER CHARGE… FOR ALL!
URL:https://lusttwo.3rfocuslabs.com/event/power-hour-martinsburg/2026-04-30/
LOCATION:Martinsburg\, 1110 Hedgesville Rd\, Martinsburg\, WV\, 25403\, United States
ATTACH;FMTTYPE=image/jpeg:https://lusttwo.3rfocuslabs.com/wp-content/uploads/2026/04/Power-Hour-scaled.jpg
END:VEVENT
BEGIN:VEVENT
DTSTART;TZID=America/New_York:20260430T190000
DTEND;TZID=America/New_York:20260430T190000
DTSTAMP:20260421T223300
CREATED:20260420T194519Z
LAST-MODIFIED:20260420T194531Z
UID:10001326-1777575600-1777575600@lusttwo.3rfocuslabs.com
SUMMARY:Taxi Promo @ Myrtle Beach
DESCRIPTION:🚕💸 DRIVERS\, THIS ONE’S FOR YOU 💸🚕 \nTaxi\, Uber\, Lyft… if you’ve got passengers\, you’ve got cash waiting for you at Lust 👀🔥 Bring your guests to the front door AFTER 7PM and get $10 PER PERSON!  \nPull up ➡️ drop off ➡️ check in with the manager ➡️ get PAID 💼✅ \nIt’s that easy. No catch. Just extra cash all night long. So next time you’ve got a ride looking for a good time… you already know where to take them. \n⏰ After 7PM only\n💵 $10 per guest\n🚗 Taxi • Uber • Lyft ALL welcome
URL:https://lusttwo.3rfocuslabs.com/event/taxi-promo/2026-04-30/
LOCATION:Myrtle Beach\, 804 Seaboard St\, Myrtle Beach\, SC\, 29577\, United States
ATTACH;FMTTYPE=image/jpeg:https://lusttwo.3rfocuslabs.com/wp-content/uploads/2026/04/1758390576363-d66746fc-9514-4abf-9b7d-e22cd4a20f5a_1.jpg
END:VEVENT
BEGIN:VEVENT
DTSTART;VALUE=DATE:20260501
DTEND;VALUE=DATE:20260502
DTSTAMP:20260421T223300
CREATED:20260420T195234Z
LAST-MODIFIED:20260420T195234Z
UID:10003676-1777593600-1777679999@lusttwo.3rfocuslabs.com
SUMMARY:Hookah Lounge @ Myrtle Beach
DESCRIPTION:💨🔥 ELEVATE YOUR NIGHT 🔥💨 \nStep into our FULL-SERVICE HOOKAH LOUNGE and turn your night into a whole experience 💃🍹 Reserve your VIP section today and make it a night worth remembering. Call to book your section today.
URL:https://lusttwo.3rfocuslabs.com/event/hookah-lounge-myrtle-beach/2026-05-01/
LOCATION:Myrtle Beach\, 804 Seaboard St\, Myrtle Beach\, SC\, 29577\, United States
ATTACH;FMTTYPE=image/jpeg:https://lusttwo.3rfocuslabs.com/wp-content/uploads/2026/04/LustHookah8_25InstgramSq.jpg
END:VEVENT
BEGIN:VEVENT
DTSTART;VALUE=DATE:20260501
DTEND;VALUE=DATE:20260502
DTSTAMP:20260421T223300
CREATED:20260420T195742Z
LAST-MODIFIED:20260420T195742Z
UID:10005503-1777593600-1777679999@lusttwo.3rfocuslabs.com
SUMMARY:Private Topless Pool Parties @ Myrtle Beach
DESCRIPTION:Myrtle Beach… your party just found its upgrade 😏💦 Private Topless Pool Parties at Lust are bringing the heat ALL summer long. Perfect for: \nbirthdays 🎂 \nbachelorettes 💍 \nbachelor parties 🕺 \nor just an excuse to celebrate BIG with your crew. \n📍 Myrtle Beach Location ONLY. Reserve your pool party today
URL:https://lusttwo.3rfocuslabs.com/event/private-topless-pool-parties-myrtle-beach/2026-05-01/
LOCATION:Myrtle Beach\, 804 Seaboard St\, Myrtle Beach\, SC\, 29577\, United States
ATTACH;FMTTYPE=image/jpeg:https://lusttwo.3rfocuslabs.com/wp-content/uploads/2026/04/PoolParty8_25InstgramSq.jpg
END:VEVENT
BEGIN:VEVENT
DTSTART;TZID=America/New_York:20260501T190000
DTEND;TZID=America/New_York:20260501T190000
DTSTAMP:20260421T223300
CREATED:20260420T194519Z
LAST-MODIFIED:20260420T194531Z
UID:10001327-1777662000-1777662000@lusttwo.3rfocuslabs.com
SUMMARY:Taxi Promo @ Myrtle Beach
DESCRIPTION:🚕💸 DRIVERS\, THIS ONE’S FOR YOU 💸🚕 \nTaxi\, Uber\, Lyft… if you’ve got passengers\, you’ve got cash waiting for you at Lust 👀🔥 Bring your guests to the front door AFTER 7PM and get $10 PER PERSON!  \nPull up ➡️ drop off ➡️ check in with the manager ➡️ get PAID 💼✅ \nIt’s that easy. No catch. Just extra cash all night long. So next time you’ve got a ride looking for a good time… you already know where to take them. \n⏰ After 7PM only\n💵 $10 per guest\n🚗 Taxi • Uber • Lyft ALL welcome
URL:https://lusttwo.3rfocuslabs.com/event/taxi-promo/2026-05-01/
LOCATION:Myrtle Beach\, 804 Seaboard St\, Myrtle Beach\, SC\, 29577\, United States
ATTACH;FMTTYPE=image/jpeg:https://lusttwo.3rfocuslabs.com/wp-content/uploads/2026/04/1758390576363-d66746fc-9514-4abf-9b7d-e22cd4a20f5a_1.jpg
END:VEVENT
BEGIN:VEVENT
DTSTART;VALUE=DATE:20260502
DTEND;VALUE=DATE:20260503
DTSTAMP:20260421T223300
CREATED:20260420T195234Z
LAST-MODIFIED:20260420T195234Z
UID:10003677-1777680000-1777766399@lusttwo.3rfocuslabs.com
SUMMARY:Hookah Lounge @ Myrtle Beach
DESCRIPTION:💨🔥 ELEVATE YOUR NIGHT 🔥💨 \nStep into our FULL-SERVICE HOOKAH LOUNGE and turn your night into a whole experience 💃🍹 Reserve your VIP section today and make it a night worth remembering. Call to book your section today.
URL:https://lusttwo.3rfocuslabs.com/event/hookah-lounge-myrtle-beach/2026-05-02/
LOCATION:Myrtle Beach\, 804 Seaboard St\, Myrtle Beach\, SC\, 29577\, United States
ATTACH;FMTTYPE=image/jpeg:https://lusttwo.3rfocuslabs.com/wp-content/uploads/2026/04/LustHookah8_25InstgramSq.jpg
END:VEVENT
BEGIN:VEVENT
DTSTART;VALUE=DATE:20260502
DTEND;VALUE=DATE:20260503
DTSTAMP:20260421T223300
CREATED:20260420T195742Z
LAST-MODIFIED:20260420T195742Z
UID:10005504-1777680000-1777766399@lusttwo.3rfocuslabs.com
SUMMARY:Private Topless Pool Parties @ Myrtle Beach
DESCRIPTION:Myrtle Beach… your party just found its upgrade 😏💦 Private Topless Pool Parties at Lust are bringing the heat ALL summer long. Perfect for: \nbirthdays 🎂 \nbachelorettes 💍 \nbachelor parties 🕺 \nor just an excuse to celebrate BIG with your crew. \n📍 Myrtle Beach Location ONLY. Reserve your pool party today
URL:https://lusttwo.3rfocuslabs.com/event/private-topless-pool-parties-myrtle-beach/2026-05-02/
LOCATION:Myrtle Beach\, 804 Seaboard St\, Myrtle Beach\, SC\, 29577\, United States
ATTACH;FMTTYPE=image/jpeg:https://lusttwo.3rfocuslabs.com/wp-content/uploads/2026/04/PoolParty8_25InstgramSq.jpg
END:VEVENT
BEGIN:VEVENT
DTSTART;TZID=America/New_York:20260502T190000
DTEND;TZID=America/New_York:20260502T190000
DTSTAMP:20260421T223300
CREATED:20260420T194519Z
LAST-MODIFIED:20260420T194531Z
UID:10001328-1777748400-1777748400@lusttwo.3rfocuslabs.com
SUMMARY:Taxi Promo @ Myrtle Beach
DESCRIPTION:🚕💸 DRIVERS\, THIS ONE’S FOR YOU 💸🚕 \nTaxi\, Uber\, Lyft… if you’ve got passengers\, you’ve got cash waiting for you at Lust 👀🔥 Bring your guests to the front door AFTER 7PM and get $10 PER PERSON!  \nPull up ➡️ drop off ➡️ check in with the manager ➡️ get PAID 💼✅ \nIt’s that easy. No catch. Just extra cash all night long. So next time you’ve got a ride looking for a good time… you already know where to take them. \n⏰ After 7PM only\n💵 $10 per guest\n🚗 Taxi • Uber • Lyft ALL welcome
URL:https://lusttwo.3rfocuslabs.com/event/taxi-promo/2026-05-02/
LOCATION:Myrtle Beach\, 804 Seaboard St\, Myrtle Beach\, SC\, 29577\, United States
ATTACH;FMTTYPE=image/jpeg:https://lusttwo.3rfocuslabs.com/wp-content/uploads/2026/04/1758390576363-d66746fc-9514-4abf-9b7d-e22cd4a20f5a_1.jpg
END:VEVENT
BEGIN:VEVENT
DTSTART;VALUE=DATE:20260503
DTEND;VALUE=DATE:20260504
DTSTAMP:20260421T223300
CREATED:20260420T195234Z
LAST-MODIFIED:20260420T195234Z
UID:10003678-1777766400-1777852799@lusttwo.3rfocuslabs.com
SUMMARY:Hookah Lounge @ Myrtle Beach
DESCRIPTION:💨🔥 ELEVATE YOUR NIGHT 🔥💨 \nStep into our FULL-SERVICE HOOKAH LOUNGE and turn your night into a whole experience 💃🍹 Reserve your VIP section today and make it a night worth remembering. Call to book your section today.
URL:https://lusttwo.3rfocuslabs.com/event/hookah-lounge-myrtle-beach/2026-05-03/
LOCATION:Myrtle Beach\, 804 Seaboard St\, Myrtle Beach\, SC\, 29577\, United States
ATTACH;FMTTYPE=image/jpeg:https://lusttwo.3rfocuslabs.com/wp-content/uploads/2026/04/LustHookah8_25InstgramSq.jpg
END:VEVENT
BEGIN:VEVENT
DTSTART;VALUE=DATE:20260503
DTEND;VALUE=DATE:20260504
DTSTAMP:20260421T223300
CREATED:20260420T195742Z
LAST-MODIFIED:20260420T195742Z
UID:10005505-1777766400-1777852799@lusttwo.3rfocuslabs.com
SUMMARY:Private Topless Pool Parties @ Myrtle Beach
DESCRIPTION:Myrtle Beach… your party just found its upgrade 😏💦 Private Topless Pool Parties at Lust are bringing the heat ALL summer long. Perfect for: \nbirthdays 🎂 \nbachelorettes 💍 \nbachelor parties 🕺 \nor just an excuse to celebrate BIG with your crew. \n📍 Myrtle Beach Location ONLY. Reserve your pool party today
URL:https://lusttwo.3rfocuslabs.com/event/private-topless-pool-parties-myrtle-beach/2026-05-03/
LOCATION:Myrtle Beach\, 804 Seaboard St\, Myrtle Beach\, SC\, 29577\, United States
ATTACH;FMTTYPE=image/jpeg:https://lusttwo.3rfocuslabs.com/wp-content/uploads/2026/04/PoolParty8_25InstgramSq.jpg
END:VEVENT
END:VCALENDAR