BEGIN:VCALENDAR
VERSION:2.0
PRODID:-//Lust - ECPv6.15.20//NONSGML v1.0//EN
CALSCALE:GREGORIAN
METHOD:PUBLISH
X-ORIGINAL-URL:https://lusttwo.3rfocuslabs.com
X-WR-CALDESC:Events for Lust
REFRESH-INTERVAL;VALUE=DURATION:PT1H
X-Robots-Tag:noindex
X-PUBLISHED-TTL:PT1H
BEGIN:VTIMEZONE
TZID:America/New_York
BEGIN:DAYLIGHT
TZOFFSETFROM:-0500
TZOFFSETTO:-0400
TZNAME:EDT
DTSTART:20250309T070000
END:DAYLIGHT
BEGIN:STANDARD
TZOFFSETFROM:-0400
TZOFFSETTO:-0500
TZNAME:EST
DTSTART:20251102T060000
END:STANDARD
BEGIN:DAYLIGHT
TZOFFSETFROM:-0500
TZOFFSETTO:-0400
TZNAME:EDT
DTSTART:20260308T070000
END:DAYLIGHT
BEGIN:STANDARD
TZOFFSETFROM:-0400
TZOFFSETTO:-0500
TZNAME:EST
DTSTART:20261101T060000
END:STANDARD
BEGIN:DAYLIGHT
TZOFFSETFROM:-0500
TZOFFSETTO:-0400
TZNAME:EDT
DTSTART:20270314T070000
END:DAYLIGHT
BEGIN:STANDARD
TZOFFSETFROM:-0400
TZOFFSETTO:-0500
TZNAME:EST
DTSTART:20271107T060000
END:STANDARD
END:VTIMEZONE
BEGIN:VEVENT
DTSTART;TZID=America/New_York:20260505T190000
DTEND;TZID=America/New_York:20260505T190000
DTSTAMP:20260422T035445
CREATED:20260420T194519Z
LAST-MODIFIED:20260420T194531Z
UID:10001331-1778007600-1778007600@lusttwo.3rfocuslabs.com
SUMMARY:Taxi Promo @ Myrtle Beach
DESCRIPTION:🚕💸 DRIVERS\, THIS ONE’S FOR YOU 💸🚕 \nTaxi\, Uber\, Lyft… if you’ve got passengers\, you’ve got cash waiting for you at Lust 👀🔥 Bring your guests to the front door AFTER 7PM and get $10 PER PERSON!  \nPull up ➡️ drop off ➡️ check in with the manager ➡️ get PAID 💼✅ \nIt’s that easy. No catch. Just extra cash all night long. So next time you’ve got a ride looking for a good time… you already know where to take them. \n⏰ After 7PM only\n💵 $10 per guest\n🚗 Taxi • Uber • Lyft ALL welcome
URL:https://lusttwo.3rfocuslabs.com/event/taxi-promo/2026-05-05/
LOCATION:Myrtle Beach\, 804 Seaboard St\, Myrtle Beach\, SC\, 29577\, United States
ATTACH;FMTTYPE=image/jpeg:https://lusttwo.3rfocuslabs.com/wp-content/uploads/2026/04/1758390576363-d66746fc-9514-4abf-9b7d-e22cd4a20f5a_1.jpg
END:VEVENT
BEGIN:VEVENT
DTSTART;VALUE=DATE:20260506
DTEND;VALUE=DATE:20260507
DTSTAMP:20260422T035445
CREATED:20260420T194717Z
LAST-MODIFIED:20260420T194717Z
UID:10003145-1778025600-1778111999@lusttwo.3rfocuslabs.com
SUMMARY:Wet & Wild Wednesdays @ Myrtle Beach
DESCRIPTION:HALF OFF hot tub and shower shows ALL NIGHT LONG!! \nAvailable every Wednesday at both locations.
URL:https://lusttwo.3rfocuslabs.com/event/wet-wild-wednesdays-myrtle-beach/2026-05-06/
LOCATION:Myrtle Beach\, 804 Seaboard St\, Myrtle Beach\, SC\, 29577\, United States
ATTACH;FMTTYPE=image/jpeg:https://lusttwo.3rfocuslabs.com/wp-content/uploads/2026/04/1.jpg
END:VEVENT
BEGIN:VEVENT
DTSTART;VALUE=DATE:20260506
DTEND;VALUE=DATE:20260507
DTSTAMP:20260422T035445
CREATED:20260420T194759Z
LAST-MODIFIED:20260420T194759Z
UID:10003406-1778025600-1778111999@lusttwo.3rfocuslabs.com
SUMMARY:Wet & Wild Wednesdays @ Martinsburg
DESCRIPTION:HALF OFF hot tub and shower shows ALL NIGHT LONG!! \nAvailable every Wednesday at both locations.
URL:https://lusttwo.3rfocuslabs.com/event/wet-wild-wednesdays-martinsburg/2026-05-06/
LOCATION:Martinsburg\, 1110 Hedgesville Rd\, Martinsburg\, WV\, 25403\, United States
ATTACH;FMTTYPE=image/jpeg:https://lusttwo.3rfocuslabs.com/wp-content/uploads/2026/04/1.jpg
END:VEVENT
BEGIN:VEVENT
DTSTART;VALUE=DATE:20260506
DTEND;VALUE=DATE:20260507
DTSTAMP:20260422T035445
CREATED:20260420T195234Z
LAST-MODIFIED:20260420T195234Z
UID:10003681-1778025600-1778111999@lusttwo.3rfocuslabs.com
SUMMARY:Hookah Lounge @ Myrtle Beach
DESCRIPTION:💨🔥 ELEVATE YOUR NIGHT 🔥💨 \nStep into our FULL-SERVICE HOOKAH LOUNGE and turn your night into a whole experience 💃🍹 Reserve your VIP section today and make it a night worth remembering. Call to book your section today.
URL:https://lusttwo.3rfocuslabs.com/event/hookah-lounge-myrtle-beach/2026-05-06/
LOCATION:Myrtle Beach\, 804 Seaboard St\, Myrtle Beach\, SC\, 29577\, United States
ATTACH;FMTTYPE=image/jpeg:https://lusttwo.3rfocuslabs.com/wp-content/uploads/2026/04/LustHookah8_25InstgramSq.jpg
END:VEVENT
BEGIN:VEVENT
DTSTART;VALUE=DATE:20260506
DTEND;VALUE=DATE:20260507
DTSTAMP:20260422T035445
CREATED:20260420T195742Z
LAST-MODIFIED:20260420T195742Z
UID:10005508-1778025600-1778111999@lusttwo.3rfocuslabs.com
SUMMARY:Private Topless Pool Parties @ Myrtle Beach
DESCRIPTION:Myrtle Beach… your party just found its upgrade 😏💦 Private Topless Pool Parties at Lust are bringing the heat ALL summer long. Perfect for: \nbirthdays 🎂 \nbachelorettes 💍 \nbachelor parties 🕺 \nor just an excuse to celebrate BIG with your crew. \n📍 Myrtle Beach Location ONLY. Reserve your pool party today
URL:https://lusttwo.3rfocuslabs.com/event/private-topless-pool-parties-myrtle-beach/2026-05-06/
LOCATION:Myrtle Beach\, 804 Seaboard St\, Myrtle Beach\, SC\, 29577\, United States
ATTACH;FMTTYPE=image/jpeg:https://lusttwo.3rfocuslabs.com/wp-content/uploads/2026/04/PoolParty8_25InstgramSq.jpg
END:VEVENT
BEGIN:VEVENT
DTSTART;TZID=America/New_York:20260506T190000
DTEND;TZID=America/New_York:20260506T190000
DTSTAMP:20260422T035445
CREATED:20260420T194519Z
LAST-MODIFIED:20260420T194531Z
UID:10001332-1778094000-1778094000@lusttwo.3rfocuslabs.com
SUMMARY:Taxi Promo @ Myrtle Beach
DESCRIPTION:🚕💸 DRIVERS\, THIS ONE’S FOR YOU 💸🚕 \nTaxi\, Uber\, Lyft… if you’ve got passengers\, you’ve got cash waiting for you at Lust 👀🔥 Bring your guests to the front door AFTER 7PM and get $10 PER PERSON!  \nPull up ➡️ drop off ➡️ check in with the manager ➡️ get PAID 💼✅ \nIt’s that easy. No catch. Just extra cash all night long. So next time you’ve got a ride looking for a good time… you already know where to take them. \n⏰ After 7PM only\n💵 $10 per guest\n🚗 Taxi • Uber • Lyft ALL welcome
URL:https://lusttwo.3rfocuslabs.com/event/taxi-promo/2026-05-06/
LOCATION:Myrtle Beach\, 804 Seaboard St\, Myrtle Beach\, SC\, 29577\, United States
ATTACH;FMTTYPE=image/jpeg:https://lusttwo.3rfocuslabs.com/wp-content/uploads/2026/04/1758390576363-d66746fc-9514-4abf-9b7d-e22cd4a20f5a_1.jpg
END:VEVENT
BEGIN:VEVENT
DTSTART;VALUE=DATE:20260507
DTEND;VALUE=DATE:20260508
DTSTAMP:20260422T035445
CREATED:20260420T195234Z
LAST-MODIFIED:20260420T195234Z
UID:10003682-1778112000-1778198399@lusttwo.3rfocuslabs.com
SUMMARY:Hookah Lounge @ Myrtle Beach
DESCRIPTION:💨🔥 ELEVATE YOUR NIGHT 🔥💨 \nStep into our FULL-SERVICE HOOKAH LOUNGE and turn your night into a whole experience 💃🍹 Reserve your VIP section today and make it a night worth remembering. Call to book your section today.
URL:https://lusttwo.3rfocuslabs.com/event/hookah-lounge-myrtle-beach/2026-05-07/
LOCATION:Myrtle Beach\, 804 Seaboard St\, Myrtle Beach\, SC\, 29577\, United States
ATTACH;FMTTYPE=image/jpeg:https://lusttwo.3rfocuslabs.com/wp-content/uploads/2026/04/LustHookah8_25InstgramSq.jpg
END:VEVENT
BEGIN:VEVENT
DTSTART;VALUE=DATE:20260507
DTEND;VALUE=DATE:20260508
DTSTAMP:20260422T035445
CREATED:20260420T195742Z
LAST-MODIFIED:20260420T195742Z
UID:10005509-1778112000-1778198399@lusttwo.3rfocuslabs.com
SUMMARY:Private Topless Pool Parties @ Myrtle Beach
DESCRIPTION:Myrtle Beach… your party just found its upgrade 😏💦 Private Topless Pool Parties at Lust are bringing the heat ALL summer long. Perfect for: \nbirthdays 🎂 \nbachelorettes 💍 \nbachelor parties 🕺 \nor just an excuse to celebrate BIG with your crew. \n📍 Myrtle Beach Location ONLY. Reserve your pool party today
URL:https://lusttwo.3rfocuslabs.com/event/private-topless-pool-parties-myrtle-beach/2026-05-07/
LOCATION:Myrtle Beach\, 804 Seaboard St\, Myrtle Beach\, SC\, 29577\, United States
ATTACH;FMTTYPE=image/jpeg:https://lusttwo.3rfocuslabs.com/wp-content/uploads/2026/04/PoolParty8_25InstgramSq.jpg
END:VEVENT
BEGIN:VEVENT
DTSTART;TZID=America/New_York:20260507T180000
DTEND;TZID=America/New_York:20260507T190000
DTSTAMP:20260422T035445
CREATED:20260420T193945Z
LAST-MODIFIED:20260420T194010Z
UID:10000803-1778176800-1778180400@lusttwo.3rfocuslabs.com
SUMMARY:Power Hour @ Martinsburg
DESCRIPTION:ONLY AT MARTINSBURG LUST GENTLEMEN’S CLUB!!  \nEvery Tuesday & Thursday from 6pm – 7pm\, get in with NO COVER CHARGE… FOR ALL!
URL:https://lusttwo.3rfocuslabs.com/event/power-hour-martinsburg/2026-05-07/
LOCATION:Martinsburg\, 1110 Hedgesville Rd\, Martinsburg\, WV\, 25403\, United States
ATTACH;FMTTYPE=image/jpeg:https://lusttwo.3rfocuslabs.com/wp-content/uploads/2026/04/Power-Hour-scaled.jpg
END:VEVENT
BEGIN:VEVENT
DTSTART;TZID=America/New_York:20260507T190000
DTEND;TZID=America/New_York:20260507T190000
DTSTAMP:20260422T035445
CREATED:20260420T194519Z
LAST-MODIFIED:20260420T194531Z
UID:10001333-1778180400-1778180400@lusttwo.3rfocuslabs.com
SUMMARY:Taxi Promo @ Myrtle Beach
DESCRIPTION:🚕💸 DRIVERS\, THIS ONE’S FOR YOU 💸🚕 \nTaxi\, Uber\, Lyft… if you’ve got passengers\, you’ve got cash waiting for you at Lust 👀🔥 Bring your guests to the front door AFTER 7PM and get $10 PER PERSON!  \nPull up ➡️ drop off ➡️ check in with the manager ➡️ get PAID 💼✅ \nIt’s that easy. No catch. Just extra cash all night long. So next time you’ve got a ride looking for a good time… you already know where to take them. \n⏰ After 7PM only\n💵 $10 per guest\n🚗 Taxi • Uber • Lyft ALL welcome
URL:https://lusttwo.3rfocuslabs.com/event/taxi-promo/2026-05-07/
LOCATION:Myrtle Beach\, 804 Seaboard St\, Myrtle Beach\, SC\, 29577\, United States
ATTACH;FMTTYPE=image/jpeg:https://lusttwo.3rfocuslabs.com/wp-content/uploads/2026/04/1758390576363-d66746fc-9514-4abf-9b7d-e22cd4a20f5a_1.jpg
END:VEVENT
BEGIN:VEVENT
DTSTART;VALUE=DATE:20260508
DTEND;VALUE=DATE:20260509
DTSTAMP:20260422T035445
CREATED:20260420T195234Z
LAST-MODIFIED:20260420T195234Z
UID:10003683-1778198400-1778284799@lusttwo.3rfocuslabs.com
SUMMARY:Hookah Lounge @ Myrtle Beach
DESCRIPTION:💨🔥 ELEVATE YOUR NIGHT 🔥💨 \nStep into our FULL-SERVICE HOOKAH LOUNGE and turn your night into a whole experience 💃🍹 Reserve your VIP section today and make it a night worth remembering. Call to book your section today.
URL:https://lusttwo.3rfocuslabs.com/event/hookah-lounge-myrtle-beach/2026-05-08/
LOCATION:Myrtle Beach\, 804 Seaboard St\, Myrtle Beach\, SC\, 29577\, United States
ATTACH;FMTTYPE=image/jpeg:https://lusttwo.3rfocuslabs.com/wp-content/uploads/2026/04/LustHookah8_25InstgramSq.jpg
END:VEVENT
BEGIN:VEVENT
DTSTART;VALUE=DATE:20260508
DTEND;VALUE=DATE:20260509
DTSTAMP:20260422T035445
CREATED:20260420T195742Z
LAST-MODIFIED:20260420T195742Z
UID:10005510-1778198400-1778284799@lusttwo.3rfocuslabs.com
SUMMARY:Private Topless Pool Parties @ Myrtle Beach
DESCRIPTION:Myrtle Beach… your party just found its upgrade 😏💦 Private Topless Pool Parties at Lust are bringing the heat ALL summer long. Perfect for: \nbirthdays 🎂 \nbachelorettes 💍 \nbachelor parties 🕺 \nor just an excuse to celebrate BIG with your crew. \n📍 Myrtle Beach Location ONLY. Reserve your pool party today
URL:https://lusttwo.3rfocuslabs.com/event/private-topless-pool-parties-myrtle-beach/2026-05-08/
LOCATION:Myrtle Beach\, 804 Seaboard St\, Myrtle Beach\, SC\, 29577\, United States
ATTACH;FMTTYPE=image/jpeg:https://lusttwo.3rfocuslabs.com/wp-content/uploads/2026/04/PoolParty8_25InstgramSq.jpg
END:VEVENT
BEGIN:VEVENT
DTSTART;TZID=America/New_York:20260508T190000
DTEND;TZID=America/New_York:20260508T190000
DTSTAMP:20260422T035445
CREATED:20260420T194519Z
LAST-MODIFIED:20260420T194531Z
UID:10001334-1778266800-1778266800@lusttwo.3rfocuslabs.com
SUMMARY:Taxi Promo @ Myrtle Beach
DESCRIPTION:🚕💸 DRIVERS\, THIS ONE’S FOR YOU 💸🚕 \nTaxi\, Uber\, Lyft… if you’ve got passengers\, you’ve got cash waiting for you at Lust 👀🔥 Bring your guests to the front door AFTER 7PM and get $10 PER PERSON!  \nPull up ➡️ drop off ➡️ check in with the manager ➡️ get PAID 💼✅ \nIt’s that easy. No catch. Just extra cash all night long. So next time you’ve got a ride looking for a good time… you already know where to take them. \n⏰ After 7PM only\n💵 $10 per guest\n🚗 Taxi • Uber • Lyft ALL welcome
URL:https://lusttwo.3rfocuslabs.com/event/taxi-promo/2026-05-08/
LOCATION:Myrtle Beach\, 804 Seaboard St\, Myrtle Beach\, SC\, 29577\, United States
ATTACH;FMTTYPE=image/jpeg:https://lusttwo.3rfocuslabs.com/wp-content/uploads/2026/04/1758390576363-d66746fc-9514-4abf-9b7d-e22cd4a20f5a_1.jpg
END:VEVENT
BEGIN:VEVENT
DTSTART;VALUE=DATE:20260509
DTEND;VALUE=DATE:20260510
DTSTAMP:20260422T035445
CREATED:20260420T195234Z
LAST-MODIFIED:20260420T195234Z
UID:10003684-1778284800-1778371199@lusttwo.3rfocuslabs.com
SUMMARY:Hookah Lounge @ Myrtle Beach
DESCRIPTION:💨🔥 ELEVATE YOUR NIGHT 🔥💨 \nStep into our FULL-SERVICE HOOKAH LOUNGE and turn your night into a whole experience 💃🍹 Reserve your VIP section today and make it a night worth remembering. Call to book your section today.
URL:https://lusttwo.3rfocuslabs.com/event/hookah-lounge-myrtle-beach/2026-05-09/
LOCATION:Myrtle Beach\, 804 Seaboard St\, Myrtle Beach\, SC\, 29577\, United States
ATTACH;FMTTYPE=image/jpeg:https://lusttwo.3rfocuslabs.com/wp-content/uploads/2026/04/LustHookah8_25InstgramSq.jpg
END:VEVENT
BEGIN:VEVENT
DTSTART;VALUE=DATE:20260509
DTEND;VALUE=DATE:20260510
DTSTAMP:20260422T035445
CREATED:20260420T195742Z
LAST-MODIFIED:20260420T195742Z
UID:10005511-1778284800-1778371199@lusttwo.3rfocuslabs.com
SUMMARY:Private Topless Pool Parties @ Myrtle Beach
DESCRIPTION:Myrtle Beach… your party just found its upgrade 😏💦 Private Topless Pool Parties at Lust are bringing the heat ALL summer long. Perfect for: \nbirthdays 🎂 \nbachelorettes 💍 \nbachelor parties 🕺 \nor just an excuse to celebrate BIG with your crew. \n📍 Myrtle Beach Location ONLY. Reserve your pool party today
URL:https://lusttwo.3rfocuslabs.com/event/private-topless-pool-parties-myrtle-beach/2026-05-09/
LOCATION:Myrtle Beach\, 804 Seaboard St\, Myrtle Beach\, SC\, 29577\, United States
ATTACH;FMTTYPE=image/jpeg:https://lusttwo.3rfocuslabs.com/wp-content/uploads/2026/04/PoolParty8_25InstgramSq.jpg
END:VEVENT
BEGIN:VEVENT
DTSTART;TZID=America/New_York:20260509T190000
DTEND;TZID=America/New_York:20260509T190000
DTSTAMP:20260422T035445
CREATED:20260420T194519Z
LAST-MODIFIED:20260420T194531Z
UID:10001335-1778353200-1778353200@lusttwo.3rfocuslabs.com
SUMMARY:Taxi Promo @ Myrtle Beach
DESCRIPTION:🚕💸 DRIVERS\, THIS ONE’S FOR YOU 💸🚕 \nTaxi\, Uber\, Lyft… if you’ve got passengers\, you’ve got cash waiting for you at Lust 👀🔥 Bring your guests to the front door AFTER 7PM and get $10 PER PERSON!  \nPull up ➡️ drop off ➡️ check in with the manager ➡️ get PAID 💼✅ \nIt’s that easy. No catch. Just extra cash all night long. So next time you’ve got a ride looking for a good time… you already know where to take them. \n⏰ After 7PM only\n💵 $10 per guest\n🚗 Taxi • Uber • Lyft ALL welcome
URL:https://lusttwo.3rfocuslabs.com/event/taxi-promo/2026-05-09/
LOCATION:Myrtle Beach\, 804 Seaboard St\, Myrtle Beach\, SC\, 29577\, United States
ATTACH;FMTTYPE=image/jpeg:https://lusttwo.3rfocuslabs.com/wp-content/uploads/2026/04/1758390576363-d66746fc-9514-4abf-9b7d-e22cd4a20f5a_1.jpg
END:VEVENT
BEGIN:VEVENT
DTSTART;VALUE=DATE:20260510
DTEND;VALUE=DATE:20260511
DTSTAMP:20260422T035445
CREATED:20260420T195234Z
LAST-MODIFIED:20260420T195234Z
UID:10003685-1778371200-1778457599@lusttwo.3rfocuslabs.com
SUMMARY:Hookah Lounge @ Myrtle Beach
DESCRIPTION:💨🔥 ELEVATE YOUR NIGHT 🔥💨 \nStep into our FULL-SERVICE HOOKAH LOUNGE and turn your night into a whole experience 💃🍹 Reserve your VIP section today and make it a night worth remembering. Call to book your section today.
URL:https://lusttwo.3rfocuslabs.com/event/hookah-lounge-myrtle-beach/2026-05-10/
LOCATION:Myrtle Beach\, 804 Seaboard St\, Myrtle Beach\, SC\, 29577\, United States
ATTACH;FMTTYPE=image/jpeg:https://lusttwo.3rfocuslabs.com/wp-content/uploads/2026/04/LustHookah8_25InstgramSq.jpg
END:VEVENT
BEGIN:VEVENT
DTSTART;VALUE=DATE:20260510
DTEND;VALUE=DATE:20260511
DTSTAMP:20260422T035445
CREATED:20260420T195742Z
LAST-MODIFIED:20260420T195742Z
UID:10005512-1778371200-1778457599@lusttwo.3rfocuslabs.com
SUMMARY:Private Topless Pool Parties @ Myrtle Beach
DESCRIPTION:Myrtle Beach… your party just found its upgrade 😏💦 Private Topless Pool Parties at Lust are bringing the heat ALL summer long. Perfect for: \nbirthdays 🎂 \nbachelorettes 💍 \nbachelor parties 🕺 \nor just an excuse to celebrate BIG with your crew. \n📍 Myrtle Beach Location ONLY. Reserve your pool party today
URL:https://lusttwo.3rfocuslabs.com/event/private-topless-pool-parties-myrtle-beach/2026-05-10/
LOCATION:Myrtle Beach\, 804 Seaboard St\, Myrtle Beach\, SC\, 29577\, United States
ATTACH;FMTTYPE=image/jpeg:https://lusttwo.3rfocuslabs.com/wp-content/uploads/2026/04/PoolParty8_25InstgramSq.jpg
END:VEVENT
BEGIN:VEVENT
DTSTART;TZID=America/New_York:20260510T190000
DTEND;TZID=America/New_York:20260510T190000
DTSTAMP:20260422T035445
CREATED:20260420T194519Z
LAST-MODIFIED:20260420T194531Z
UID:10001336-1778439600-1778439600@lusttwo.3rfocuslabs.com
SUMMARY:Taxi Promo @ Myrtle Beach
DESCRIPTION:🚕💸 DRIVERS\, THIS ONE’S FOR YOU 💸🚕 \nTaxi\, Uber\, Lyft… if you’ve got passengers\, you’ve got cash waiting for you at Lust 👀🔥 Bring your guests to the front door AFTER 7PM and get $10 PER PERSON!  \nPull up ➡️ drop off ➡️ check in with the manager ➡️ get PAID 💼✅ \nIt’s that easy. No catch. Just extra cash all night long. So next time you’ve got a ride looking for a good time… you already know where to take them. \n⏰ After 7PM only\n💵 $10 per guest\n🚗 Taxi • Uber • Lyft ALL welcome
URL:https://lusttwo.3rfocuslabs.com/event/taxi-promo/2026-05-10/
LOCATION:Myrtle Beach\, 804 Seaboard St\, Myrtle Beach\, SC\, 29577\, United States
ATTACH;FMTTYPE=image/jpeg:https://lusttwo.3rfocuslabs.com/wp-content/uploads/2026/04/1758390576363-d66746fc-9514-4abf-9b7d-e22cd4a20f5a_1.jpg
END:VEVENT
BEGIN:VEVENT
DTSTART;VALUE=DATE:20260511
DTEND;VALUE=DATE:20260512
DTSTAMP:20260422T035445
CREATED:20260420T193605Z
LAST-MODIFIED:20260420T193605Z
UID:10000022-1778457600-1778543999@lusttwo.3rfocuslabs.com
SUMMARY:Money Mondays @ Martinsburg
DESCRIPTION:ONLY AT MARTINSBURG LUST GENTLEMEN’S CLUB!!  \nGet HALF OFF all food\, drinks\, and dances all day and all night.
URL:https://lusttwo.3rfocuslabs.com/event/money-mondays-martinsburg/2026-05-11/
LOCATION:Martinsburg\, 1110 Hedgesville Rd\, Martinsburg\, WV\, 25403\, United States
ATTACH;FMTTYPE=image/jpeg:https://lusttwo.3rfocuslabs.com/wp-content/uploads/2026/04/MONEY-MONDAYS-scaled.jpg
END:VEVENT
BEGIN:VEVENT
DTSTART;VALUE=DATE:20260511
DTEND;VALUE=DATE:20260512
DTSTAMP:20260422T035445
CREATED:20260420T195234Z
LAST-MODIFIED:20260420T195234Z
UID:10003686-1778457600-1778543999@lusttwo.3rfocuslabs.com
SUMMARY:Hookah Lounge @ Myrtle Beach
DESCRIPTION:💨🔥 ELEVATE YOUR NIGHT 🔥💨 \nStep into our FULL-SERVICE HOOKAH LOUNGE and turn your night into a whole experience 💃🍹 Reserve your VIP section today and make it a night worth remembering. Call to book your section today.
URL:https://lusttwo.3rfocuslabs.com/event/hookah-lounge-myrtle-beach/2026-05-11/
LOCATION:Myrtle Beach\, 804 Seaboard St\, Myrtle Beach\, SC\, 29577\, United States
ATTACH;FMTTYPE=image/jpeg:https://lusttwo.3rfocuslabs.com/wp-content/uploads/2026/04/LustHookah8_25InstgramSq.jpg
END:VEVENT
BEGIN:VEVENT
DTSTART;VALUE=DATE:20260511
DTEND;VALUE=DATE:20260512
DTSTAMP:20260422T035445
CREATED:20260420T195742Z
LAST-MODIFIED:20260420T195742Z
UID:10005513-1778457600-1778543999@lusttwo.3rfocuslabs.com
SUMMARY:Private Topless Pool Parties @ Myrtle Beach
DESCRIPTION:Myrtle Beach… your party just found its upgrade 😏💦 Private Topless Pool Parties at Lust are bringing the heat ALL summer long. Perfect for: \nbirthdays 🎂 \nbachelorettes 💍 \nbachelor parties 🕺 \nor just an excuse to celebrate BIG with your crew. \n📍 Myrtle Beach Location ONLY. Reserve your pool party today
URL:https://lusttwo.3rfocuslabs.com/event/private-topless-pool-parties-myrtle-beach/2026-05-11/
LOCATION:Myrtle Beach\, 804 Seaboard St\, Myrtle Beach\, SC\, 29577\, United States
ATTACH;FMTTYPE=image/jpeg:https://lusttwo.3rfocuslabs.com/wp-content/uploads/2026/04/PoolParty8_25InstgramSq.jpg
END:VEVENT
BEGIN:VEVENT
DTSTART;TZID=America/New_York:20260511T190000
DTEND;TZID=America/New_York:20260511T190000
DTSTAMP:20260422T035445
CREATED:20260420T194519Z
LAST-MODIFIED:20260420T194531Z
UID:10001337-1778526000-1778526000@lusttwo.3rfocuslabs.com
SUMMARY:Taxi Promo @ Myrtle Beach
DESCRIPTION:🚕💸 DRIVERS\, THIS ONE’S FOR YOU 💸🚕 \nTaxi\, Uber\, Lyft… if you’ve got passengers\, you’ve got cash waiting for you at Lust 👀🔥 Bring your guests to the front door AFTER 7PM and get $10 PER PERSON!  \nPull up ➡️ drop off ➡️ check in with the manager ➡️ get PAID 💼✅ \nIt’s that easy. No catch. Just extra cash all night long. So next time you’ve got a ride looking for a good time… you already know where to take them. \n⏰ After 7PM only\n💵 $10 per guest\n🚗 Taxi • Uber • Lyft ALL welcome
URL:https://lusttwo.3rfocuslabs.com/event/taxi-promo/2026-05-11/
LOCATION:Myrtle Beach\, 804 Seaboard St\, Myrtle Beach\, SC\, 29577\, United States
ATTACH;FMTTYPE=image/jpeg:https://lusttwo.3rfocuslabs.com/wp-content/uploads/2026/04/1758390576363-d66746fc-9514-4abf-9b7d-e22cd4a20f5a_1.jpg
END:VEVENT
BEGIN:VEVENT
DTSTART;VALUE=DATE:20260512
DTEND;VALUE=DATE:20260513
DTSTAMP:20260422T035445
CREATED:20260420T195234Z
LAST-MODIFIED:20260420T195234Z
UID:10003687-1778544000-1778630399@lusttwo.3rfocuslabs.com
SUMMARY:Hookah Lounge @ Myrtle Beach
DESCRIPTION:💨🔥 ELEVATE YOUR NIGHT 🔥💨 \nStep into our FULL-SERVICE HOOKAH LOUNGE and turn your night into a whole experience 💃🍹 Reserve your VIP section today and make it a night worth remembering. Call to book your section today.
URL:https://lusttwo.3rfocuslabs.com/event/hookah-lounge-myrtle-beach/2026-05-12/
LOCATION:Myrtle Beach\, 804 Seaboard St\, Myrtle Beach\, SC\, 29577\, United States
ATTACH;FMTTYPE=image/jpeg:https://lusttwo.3rfocuslabs.com/wp-content/uploads/2026/04/LustHookah8_25InstgramSq.jpg
END:VEVENT
BEGIN:VEVENT
DTSTART;VALUE=DATE:20260512
DTEND;VALUE=DATE:20260513
DTSTAMP:20260422T035445
CREATED:20260420T195742Z
LAST-MODIFIED:20260420T195742Z
UID:10005514-1778544000-1778630399@lusttwo.3rfocuslabs.com
SUMMARY:Private Topless Pool Parties @ Myrtle Beach
DESCRIPTION:Myrtle Beach… your party just found its upgrade 😏💦 Private Topless Pool Parties at Lust are bringing the heat ALL summer long. Perfect for: \nbirthdays 🎂 \nbachelorettes 💍 \nbachelor parties 🕺 \nor just an excuse to celebrate BIG with your crew. \n📍 Myrtle Beach Location ONLY. Reserve your pool party today
URL:https://lusttwo.3rfocuslabs.com/event/private-topless-pool-parties-myrtle-beach/2026-05-12/
LOCATION:Myrtle Beach\, 804 Seaboard St\, Myrtle Beach\, SC\, 29577\, United States
ATTACH;FMTTYPE=image/jpeg:https://lusttwo.3rfocuslabs.com/wp-content/uploads/2026/04/PoolParty8_25InstgramSq.jpg
END:VEVENT
BEGIN:VEVENT
DTSTART;TZID=America/New_York:20260512T180000
DTEND;TZID=America/New_York:20260512T190000
DTSTAMP:20260422T035445
CREATED:20260420T193945Z
LAST-MODIFIED:20260420T194010Z
UID:10000804-1778608800-1778612400@lusttwo.3rfocuslabs.com
SUMMARY:Power Hour @ Martinsburg
DESCRIPTION:ONLY AT MARTINSBURG LUST GENTLEMEN’S CLUB!!  \nEvery Tuesday & Thursday from 6pm – 7pm\, get in with NO COVER CHARGE… FOR ALL!
URL:https://lusttwo.3rfocuslabs.com/event/power-hour-martinsburg/2026-05-12/
LOCATION:Martinsburg\, 1110 Hedgesville Rd\, Martinsburg\, WV\, 25403\, United States
ATTACH;FMTTYPE=image/jpeg:https://lusttwo.3rfocuslabs.com/wp-content/uploads/2026/04/Power-Hour-scaled.jpg
END:VEVENT
BEGIN:VEVENT
DTSTART;TZID=America/New_York:20260512T190000
DTEND;TZID=America/New_York:20260512T190000
DTSTAMP:20260422T035445
CREATED:20260420T194519Z
LAST-MODIFIED:20260420T194531Z
UID:10001338-1778612400-1778612400@lusttwo.3rfocuslabs.com
SUMMARY:Taxi Promo @ Myrtle Beach
DESCRIPTION:🚕💸 DRIVERS\, THIS ONE’S FOR YOU 💸🚕 \nTaxi\, Uber\, Lyft… if you’ve got passengers\, you’ve got cash waiting for you at Lust 👀🔥 Bring your guests to the front door AFTER 7PM and get $10 PER PERSON!  \nPull up ➡️ drop off ➡️ check in with the manager ➡️ get PAID 💼✅ \nIt’s that easy. No catch. Just extra cash all night long. So next time you’ve got a ride looking for a good time… you already know where to take them. \n⏰ After 7PM only\n💵 $10 per guest\n🚗 Taxi • Uber • Lyft ALL welcome
URL:https://lusttwo.3rfocuslabs.com/event/taxi-promo/2026-05-12/
LOCATION:Myrtle Beach\, 804 Seaboard St\, Myrtle Beach\, SC\, 29577\, United States
ATTACH;FMTTYPE=image/jpeg:https://lusttwo.3rfocuslabs.com/wp-content/uploads/2026/04/1758390576363-d66746fc-9514-4abf-9b7d-e22cd4a20f5a_1.jpg
END:VEVENT
BEGIN:VEVENT
DTSTART;VALUE=DATE:20260513
DTEND;VALUE=DATE:20260514
DTSTAMP:20260422T035445
CREATED:20260420T194717Z
LAST-MODIFIED:20260420T194717Z
UID:10003146-1778630400-1778716799@lusttwo.3rfocuslabs.com
SUMMARY:Wet & Wild Wednesdays @ Myrtle Beach
DESCRIPTION:HALF OFF hot tub and shower shows ALL NIGHT LONG!! \nAvailable every Wednesday at both locations.
URL:https://lusttwo.3rfocuslabs.com/event/wet-wild-wednesdays-myrtle-beach/2026-05-13/
LOCATION:Myrtle Beach\, 804 Seaboard St\, Myrtle Beach\, SC\, 29577\, United States
ATTACH;FMTTYPE=image/jpeg:https://lusttwo.3rfocuslabs.com/wp-content/uploads/2026/04/1.jpg
END:VEVENT
BEGIN:VEVENT
DTSTART;VALUE=DATE:20260513
DTEND;VALUE=DATE:20260514
DTSTAMP:20260422T035445
CREATED:20260420T194759Z
LAST-MODIFIED:20260420T194759Z
UID:10003407-1778630400-1778716799@lusttwo.3rfocuslabs.com
SUMMARY:Wet & Wild Wednesdays @ Martinsburg
DESCRIPTION:HALF OFF hot tub and shower shows ALL NIGHT LONG!! \nAvailable every Wednesday at both locations.
URL:https://lusttwo.3rfocuslabs.com/event/wet-wild-wednesdays-martinsburg/2026-05-13/
LOCATION:Martinsburg\, 1110 Hedgesville Rd\, Martinsburg\, WV\, 25403\, United States
ATTACH;FMTTYPE=image/jpeg:https://lusttwo.3rfocuslabs.com/wp-content/uploads/2026/04/1.jpg
END:VEVENT
BEGIN:VEVENT
DTSTART;VALUE=DATE:20260513
DTEND;VALUE=DATE:20260514
DTSTAMP:20260422T035445
CREATED:20260420T195234Z
LAST-MODIFIED:20260420T195234Z
UID:10003688-1778630400-1778716799@lusttwo.3rfocuslabs.com
SUMMARY:Hookah Lounge @ Myrtle Beach
DESCRIPTION:💨🔥 ELEVATE YOUR NIGHT 🔥💨 \nStep into our FULL-SERVICE HOOKAH LOUNGE and turn your night into a whole experience 💃🍹 Reserve your VIP section today and make it a night worth remembering. Call to book your section today.
URL:https://lusttwo.3rfocuslabs.com/event/hookah-lounge-myrtle-beach/2026-05-13/
LOCATION:Myrtle Beach\, 804 Seaboard St\, Myrtle Beach\, SC\, 29577\, United States
ATTACH;FMTTYPE=image/jpeg:https://lusttwo.3rfocuslabs.com/wp-content/uploads/2026/04/LustHookah8_25InstgramSq.jpg
END:VEVENT
END:VCALENDAR