BEGIN:VCALENDAR
VERSION:2.0
PRODID:-//Lust - ECPv6.15.20//NONSGML v1.0//EN
CALSCALE:GREGORIAN
METHOD:PUBLISH
X-WR-CALNAME:Lust
X-ORIGINAL-URL:https://lusttwo.3rfocuslabs.com
X-WR-CALDESC:Events for Lust
REFRESH-INTERVAL;VALUE=DURATION:PT1H
X-Robots-Tag:noindex
X-PUBLISHED-TTL:PT1H
BEGIN:VTIMEZONE
TZID:America/New_York
BEGIN:DAYLIGHT
TZOFFSETFROM:-0500
TZOFFSETTO:-0400
TZNAME:EDT
DTSTART:20250309T070000
END:DAYLIGHT
BEGIN:STANDARD
TZOFFSETFROM:-0400
TZOFFSETTO:-0500
TZNAME:EST
DTSTART:20251102T060000
END:STANDARD
BEGIN:DAYLIGHT
TZOFFSETFROM:-0500
TZOFFSETTO:-0400
TZNAME:EDT
DTSTART:20260308T070000
END:DAYLIGHT
BEGIN:STANDARD
TZOFFSETFROM:-0400
TZOFFSETTO:-0500
TZNAME:EST
DTSTART:20261101T060000
END:STANDARD
BEGIN:DAYLIGHT
TZOFFSETFROM:-0500
TZOFFSETTO:-0400
TZNAME:EDT
DTSTART:20270314T070000
END:DAYLIGHT
BEGIN:STANDARD
TZOFFSETFROM:-0400
TZOFFSETTO:-0500
TZNAME:EST
DTSTART:20271107T060000
END:STANDARD
END:VTIMEZONE
BEGIN:VEVENT
DTSTART;VALUE=DATE:20260422
DTEND;VALUE=DATE:20260423
DTSTAMP:20260422T014232
CREATED:20260420T194759Z
LAST-MODIFIED:20260420T194759Z
UID:10003404-1776816000-1776902399@lusttwo.3rfocuslabs.com
SUMMARY:Wet & Wild Wednesdays @ Martinsburg
DESCRIPTION:HALF OFF hot tub and shower shows ALL NIGHT LONG!! \nAvailable every Wednesday at both locations.
URL:https://lusttwo.3rfocuslabs.com/event/wet-wild-wednesdays-martinsburg/2026-04-22/
LOCATION:Martinsburg\, 1110 Hedgesville Rd\, Martinsburg\, WV\, 25403\, United States
ATTACH;FMTTYPE=image/jpeg:https://lusttwo.3rfocuslabs.com/wp-content/uploads/2026/04/1.jpg
END:VEVENT
BEGIN:VEVENT
DTSTART;VALUE=DATE:20260427
DTEND;VALUE=DATE:20260428
DTSTAMP:20260422T014232
CREATED:20260420T193605Z
LAST-MODIFIED:20260420T193605Z
UID:10000020-1777248000-1777334399@lusttwo.3rfocuslabs.com
SUMMARY:Money Mondays @ Martinsburg
DESCRIPTION:ONLY AT MARTINSBURG LUST GENTLEMEN’S CLUB!!  \nGet HALF OFF all food\, drinks\, and dances all day and all night.
URL:https://lusttwo.3rfocuslabs.com/event/money-mondays-martinsburg/2026-04-27/
LOCATION:Martinsburg\, 1110 Hedgesville Rd\, Martinsburg\, WV\, 25403\, United States
ATTACH;FMTTYPE=image/jpeg:https://lusttwo.3rfocuslabs.com/wp-content/uploads/2026/04/MONEY-MONDAYS-scaled.jpg
END:VEVENT
BEGIN:VEVENT
DTSTART;TZID=America/New_York:20260428T180000
DTEND;TZID=America/New_York:20260428T190000
DTSTAMP:20260422T014232
CREATED:20260420T193945Z
LAST-MODIFIED:20260420T194010Z
UID:10000800-1777399200-1777402800@lusttwo.3rfocuslabs.com
SUMMARY:Power Hour @ Martinsburg
DESCRIPTION:ONLY AT MARTINSBURG LUST GENTLEMEN’S CLUB!!  \nEvery Tuesday & Thursday from 6pm – 7pm\, get in with NO COVER CHARGE… FOR ALL!
URL:https://lusttwo.3rfocuslabs.com/event/power-hour-martinsburg/2026-04-28/
LOCATION:Martinsburg\, 1110 Hedgesville Rd\, Martinsburg\, WV\, 25403\, United States
ATTACH;FMTTYPE=image/jpeg:https://lusttwo.3rfocuslabs.com/wp-content/uploads/2026/04/Power-Hour-scaled.jpg
END:VEVENT
BEGIN:VEVENT
DTSTART;VALUE=DATE:20260429
DTEND;VALUE=DATE:20260430
DTSTAMP:20260422T014232
CREATED:20260420T194759Z
LAST-MODIFIED:20260420T194759Z
UID:10003405-1777420800-1777507199@lusttwo.3rfocuslabs.com
SUMMARY:Wet & Wild Wednesdays @ Martinsburg
DESCRIPTION:HALF OFF hot tub and shower shows ALL NIGHT LONG!! \nAvailable every Wednesday at both locations.
URL:https://lusttwo.3rfocuslabs.com/event/wet-wild-wednesdays-martinsburg/2026-04-29/
LOCATION:Martinsburg\, 1110 Hedgesville Rd\, Martinsburg\, WV\, 25403\, United States
ATTACH;FMTTYPE=image/jpeg:https://lusttwo.3rfocuslabs.com/wp-content/uploads/2026/04/1.jpg
END:VEVENT
BEGIN:VEVENT
DTSTART;TZID=America/New_York:20260430T180000
DTEND;TZID=America/New_York:20260430T190000
DTSTAMP:20260422T014232
CREATED:20260420T193945Z
LAST-MODIFIED:20260420T194010Z
UID:10000801-1777572000-1777575600@lusttwo.3rfocuslabs.com
SUMMARY:Power Hour @ Martinsburg
DESCRIPTION:ONLY AT MARTINSBURG LUST GENTLEMEN’S CLUB!!  \nEvery Tuesday & Thursday from 6pm – 7pm\, get in with NO COVER CHARGE… FOR ALL!
URL:https://lusttwo.3rfocuslabs.com/event/power-hour-martinsburg/2026-04-30/
LOCATION:Martinsburg\, 1110 Hedgesville Rd\, Martinsburg\, WV\, 25403\, United States
ATTACH;FMTTYPE=image/jpeg:https://lusttwo.3rfocuslabs.com/wp-content/uploads/2026/04/Power-Hour-scaled.jpg
END:VEVENT
BEGIN:VEVENT
DTSTART;VALUE=DATE:20260504
DTEND;VALUE=DATE:20260505
DTSTAMP:20260422T014232
CREATED:20260420T193605Z
LAST-MODIFIED:20260420T193605Z
UID:10000021-1777852800-1777939199@lusttwo.3rfocuslabs.com
SUMMARY:Money Mondays @ Martinsburg
DESCRIPTION:ONLY AT MARTINSBURG LUST GENTLEMEN’S CLUB!!  \nGet HALF OFF all food\, drinks\, and dances all day and all night.
URL:https://lusttwo.3rfocuslabs.com/event/money-mondays-martinsburg/2026-05-04/
LOCATION:Martinsburg\, 1110 Hedgesville Rd\, Martinsburg\, WV\, 25403\, United States
ATTACH;FMTTYPE=image/jpeg:https://lusttwo.3rfocuslabs.com/wp-content/uploads/2026/04/MONEY-MONDAYS-scaled.jpg
END:VEVENT
BEGIN:VEVENT
DTSTART;TZID=America/New_York:20260505T180000
DTEND;TZID=America/New_York:20260505T190000
DTSTAMP:20260422T014232
CREATED:20260420T193945Z
LAST-MODIFIED:20260420T194010Z
UID:10000802-1778004000-1778007600@lusttwo.3rfocuslabs.com
SUMMARY:Power Hour @ Martinsburg
DESCRIPTION:ONLY AT MARTINSBURG LUST GENTLEMEN’S CLUB!!  \nEvery Tuesday & Thursday from 6pm – 7pm\, get in with NO COVER CHARGE… FOR ALL!
URL:https://lusttwo.3rfocuslabs.com/event/power-hour-martinsburg/2026-05-05/
LOCATION:Martinsburg\, 1110 Hedgesville Rd\, Martinsburg\, WV\, 25403\, United States
ATTACH;FMTTYPE=image/jpeg:https://lusttwo.3rfocuslabs.com/wp-content/uploads/2026/04/Power-Hour-scaled.jpg
END:VEVENT
BEGIN:VEVENT
DTSTART;VALUE=DATE:20260506
DTEND;VALUE=DATE:20260507
DTSTAMP:20260422T014232
CREATED:20260420T194759Z
LAST-MODIFIED:20260420T194759Z
UID:10003406-1778025600-1778111999@lusttwo.3rfocuslabs.com
SUMMARY:Wet & Wild Wednesdays @ Martinsburg
DESCRIPTION:HALF OFF hot tub and shower shows ALL NIGHT LONG!! \nAvailable every Wednesday at both locations.
URL:https://lusttwo.3rfocuslabs.com/event/wet-wild-wednesdays-martinsburg/2026-05-06/
LOCATION:Martinsburg\, 1110 Hedgesville Rd\, Martinsburg\, WV\, 25403\, United States
ATTACH;FMTTYPE=image/jpeg:https://lusttwo.3rfocuslabs.com/wp-content/uploads/2026/04/1.jpg
END:VEVENT
BEGIN:VEVENT
DTSTART;TZID=America/New_York:20260507T180000
DTEND;TZID=America/New_York:20260507T190000
DTSTAMP:20260422T014232
CREATED:20260420T193945Z
LAST-MODIFIED:20260420T194010Z
UID:10000803-1778176800-1778180400@lusttwo.3rfocuslabs.com
SUMMARY:Power Hour @ Martinsburg
DESCRIPTION:ONLY AT MARTINSBURG LUST GENTLEMEN’S CLUB!!  \nEvery Tuesday & Thursday from 6pm – 7pm\, get in with NO COVER CHARGE… FOR ALL!
URL:https://lusttwo.3rfocuslabs.com/event/power-hour-martinsburg/2026-05-07/
LOCATION:Martinsburg\, 1110 Hedgesville Rd\, Martinsburg\, WV\, 25403\, United States
ATTACH;FMTTYPE=image/jpeg:https://lusttwo.3rfocuslabs.com/wp-content/uploads/2026/04/Power-Hour-scaled.jpg
END:VEVENT
BEGIN:VEVENT
DTSTART;VALUE=DATE:20260511
DTEND;VALUE=DATE:20260512
DTSTAMP:20260422T014232
CREATED:20260420T193605Z
LAST-MODIFIED:20260420T193605Z
UID:10000022-1778457600-1778543999@lusttwo.3rfocuslabs.com
SUMMARY:Money Mondays @ Martinsburg
DESCRIPTION:ONLY AT MARTINSBURG LUST GENTLEMEN’S CLUB!!  \nGet HALF OFF all food\, drinks\, and dances all day and all night.
URL:https://lusttwo.3rfocuslabs.com/event/money-mondays-martinsburg/2026-05-11/
LOCATION:Martinsburg\, 1110 Hedgesville Rd\, Martinsburg\, WV\, 25403\, United States
ATTACH;FMTTYPE=image/jpeg:https://lusttwo.3rfocuslabs.com/wp-content/uploads/2026/04/MONEY-MONDAYS-scaled.jpg
END:VEVENT
BEGIN:VEVENT
DTSTART;TZID=America/New_York:20260512T180000
DTEND;TZID=America/New_York:20260512T190000
DTSTAMP:20260422T014232
CREATED:20260420T193945Z
LAST-MODIFIED:20260420T194010Z
UID:10000804-1778608800-1778612400@lusttwo.3rfocuslabs.com
SUMMARY:Power Hour @ Martinsburg
DESCRIPTION:ONLY AT MARTINSBURG LUST GENTLEMEN’S CLUB!!  \nEvery Tuesday & Thursday from 6pm – 7pm\, get in with NO COVER CHARGE… FOR ALL!
URL:https://lusttwo.3rfocuslabs.com/event/power-hour-martinsburg/2026-05-12/
LOCATION:Martinsburg\, 1110 Hedgesville Rd\, Martinsburg\, WV\, 25403\, United States
ATTACH;FMTTYPE=image/jpeg:https://lusttwo.3rfocuslabs.com/wp-content/uploads/2026/04/Power-Hour-scaled.jpg
END:VEVENT
BEGIN:VEVENT
DTSTART;VALUE=DATE:20260513
DTEND;VALUE=DATE:20260514
DTSTAMP:20260422T014232
CREATED:20260420T194759Z
LAST-MODIFIED:20260420T194759Z
UID:10003407-1778630400-1778716799@lusttwo.3rfocuslabs.com
SUMMARY:Wet & Wild Wednesdays @ Martinsburg
DESCRIPTION:HALF OFF hot tub and shower shows ALL NIGHT LONG!! \nAvailable every Wednesday at both locations.
URL:https://lusttwo.3rfocuslabs.com/event/wet-wild-wednesdays-martinsburg/2026-05-13/
LOCATION:Martinsburg\, 1110 Hedgesville Rd\, Martinsburg\, WV\, 25403\, United States
ATTACH;FMTTYPE=image/jpeg:https://lusttwo.3rfocuslabs.com/wp-content/uploads/2026/04/1.jpg
END:VEVENT
BEGIN:VEVENT
DTSTART;TZID=America/New_York:20260514T180000
DTEND;TZID=America/New_York:20260514T190000
DTSTAMP:20260422T014232
CREATED:20260420T193945Z
LAST-MODIFIED:20260420T194010Z
UID:10000805-1778781600-1778785200@lusttwo.3rfocuslabs.com
SUMMARY:Power Hour @ Martinsburg
DESCRIPTION:ONLY AT MARTINSBURG LUST GENTLEMEN’S CLUB!!  \nEvery Tuesday & Thursday from 6pm – 7pm\, get in with NO COVER CHARGE… FOR ALL!
URL:https://lusttwo.3rfocuslabs.com/event/power-hour-martinsburg/2026-05-14/
LOCATION:Martinsburg\, 1110 Hedgesville Rd\, Martinsburg\, WV\, 25403\, United States
ATTACH;FMTTYPE=image/jpeg:https://lusttwo.3rfocuslabs.com/wp-content/uploads/2026/04/Power-Hour-scaled.jpg
END:VEVENT
BEGIN:VEVENT
DTSTART;VALUE=DATE:20260518
DTEND;VALUE=DATE:20260519
DTSTAMP:20260422T014232
CREATED:20260420T193605Z
LAST-MODIFIED:20260420T193605Z
UID:10000023-1779062400-1779148799@lusttwo.3rfocuslabs.com
SUMMARY:Money Mondays @ Martinsburg
DESCRIPTION:ONLY AT MARTINSBURG LUST GENTLEMEN’S CLUB!!  \nGet HALF OFF all food\, drinks\, and dances all day and all night.
URL:https://lusttwo.3rfocuslabs.com/event/money-mondays-martinsburg/2026-05-18/
LOCATION:Martinsburg\, 1110 Hedgesville Rd\, Martinsburg\, WV\, 25403\, United States
ATTACH;FMTTYPE=image/jpeg:https://lusttwo.3rfocuslabs.com/wp-content/uploads/2026/04/MONEY-MONDAYS-scaled.jpg
END:VEVENT
BEGIN:VEVENT
DTSTART;TZID=America/New_York:20260519T180000
DTEND;TZID=America/New_York:20260519T190000
DTSTAMP:20260422T014232
CREATED:20260420T193945Z
LAST-MODIFIED:20260420T194010Z
UID:10000806-1779213600-1779217200@lusttwo.3rfocuslabs.com
SUMMARY:Power Hour @ Martinsburg
DESCRIPTION:ONLY AT MARTINSBURG LUST GENTLEMEN’S CLUB!!  \nEvery Tuesday & Thursday from 6pm – 7pm\, get in with NO COVER CHARGE… FOR ALL!
URL:https://lusttwo.3rfocuslabs.com/event/power-hour-martinsburg/2026-05-19/
LOCATION:Martinsburg\, 1110 Hedgesville Rd\, Martinsburg\, WV\, 25403\, United States
ATTACH;FMTTYPE=image/jpeg:https://lusttwo.3rfocuslabs.com/wp-content/uploads/2026/04/Power-Hour-scaled.jpg
END:VEVENT
BEGIN:VEVENT
DTSTART;VALUE=DATE:20260520
DTEND;VALUE=DATE:20260521
DTSTAMP:20260422T014232
CREATED:20260420T194759Z
LAST-MODIFIED:20260420T194759Z
UID:10003408-1779235200-1779321599@lusttwo.3rfocuslabs.com
SUMMARY:Wet & Wild Wednesdays @ Martinsburg
DESCRIPTION:HALF OFF hot tub and shower shows ALL NIGHT LONG!! \nAvailable every Wednesday at both locations.
URL:https://lusttwo.3rfocuslabs.com/event/wet-wild-wednesdays-martinsburg/2026-05-20/
LOCATION:Martinsburg\, 1110 Hedgesville Rd\, Martinsburg\, WV\, 25403\, United States
ATTACH;FMTTYPE=image/jpeg:https://lusttwo.3rfocuslabs.com/wp-content/uploads/2026/04/1.jpg
END:VEVENT
BEGIN:VEVENT
DTSTART;TZID=America/New_York:20260521T180000
DTEND;TZID=America/New_York:20260521T190000
DTSTAMP:20260422T014232
CREATED:20260420T193945Z
LAST-MODIFIED:20260420T194010Z
UID:10000807-1779386400-1779390000@lusttwo.3rfocuslabs.com
SUMMARY:Power Hour @ Martinsburg
DESCRIPTION:ONLY AT MARTINSBURG LUST GENTLEMEN’S CLUB!!  \nEvery Tuesday & Thursday from 6pm – 7pm\, get in with NO COVER CHARGE… FOR ALL!
URL:https://lusttwo.3rfocuslabs.com/event/power-hour-martinsburg/2026-05-21/
LOCATION:Martinsburg\, 1110 Hedgesville Rd\, Martinsburg\, WV\, 25403\, United States
ATTACH;FMTTYPE=image/jpeg:https://lusttwo.3rfocuslabs.com/wp-content/uploads/2026/04/Power-Hour-scaled.jpg
END:VEVENT
BEGIN:VEVENT
DTSTART;TZID=America/New_York:20260522T190000
DTEND;TZID=America/New_York:20260522T190000
DTSTAMP:20260422T014232
CREATED:20260420T193234Z
LAST-MODIFIED:20260420T193244Z
UID:10000019-1779476400-1779476400@lusttwo.3rfocuslabs.com
SUMMARY:Shades of Hunks @ Martinsburg
DESCRIPTION:Martinsburg… are you ready to LOSE YOUR MIND?! 🔥💋 \nShades of Hunks is crashing into Lust Gentlemen’s Club on May 22\, 2026 for a night that is bold\, electric\, and absolutely unforgettable. Think high energy\, jaw-dropping performances\, and a room full of nothing but pure chaos in the BEST way possible. This is the ultimate girls night out you’ve been waiting for… and trust us\, you’re not prepared for what’s coming. \nDoors swing open at 7PM. The show kicks off at 8PM. Martinsburg is about to get wild.
URL:https://lusttwo.3rfocuslabs.com/event/shades-of-hunk-martinsburg/
LOCATION:Martinsburg\, 1110 Hedgesville Rd\, Martinsburg\, WV\, 25403\, United States
ATTACH;FMTTYPE=image/png:https://lusttwo.3rfocuslabs.com/wp-content/uploads/2026/04/1000041063.png
END:VEVENT
BEGIN:VEVENT
DTSTART;VALUE=DATE:20260525
DTEND;VALUE=DATE:20260526
DTSTAMP:20260422T014232
CREATED:20260420T193605Z
LAST-MODIFIED:20260420T193605Z
UID:10000024-1779667200-1779753599@lusttwo.3rfocuslabs.com
SUMMARY:Money Mondays @ Martinsburg
DESCRIPTION:ONLY AT MARTINSBURG LUST GENTLEMEN’S CLUB!!  \nGet HALF OFF all food\, drinks\, and dances all day and all night.
URL:https://lusttwo.3rfocuslabs.com/event/money-mondays-martinsburg/2026-05-25/
LOCATION:Martinsburg\, 1110 Hedgesville Rd\, Martinsburg\, WV\, 25403\, United States
ATTACH;FMTTYPE=image/jpeg:https://lusttwo.3rfocuslabs.com/wp-content/uploads/2026/04/MONEY-MONDAYS-scaled.jpg
END:VEVENT
BEGIN:VEVENT
DTSTART;TZID=America/New_York:20260526T180000
DTEND;TZID=America/New_York:20260526T190000
DTSTAMP:20260422T014232
CREATED:20260420T193945Z
LAST-MODIFIED:20260420T194010Z
UID:10000808-1779818400-1779822000@lusttwo.3rfocuslabs.com
SUMMARY:Power Hour @ Martinsburg
DESCRIPTION:ONLY AT MARTINSBURG LUST GENTLEMEN’S CLUB!!  \nEvery Tuesday & Thursday from 6pm – 7pm\, get in with NO COVER CHARGE… FOR ALL!
URL:https://lusttwo.3rfocuslabs.com/event/power-hour-martinsburg/2026-05-26/
LOCATION:Martinsburg\, 1110 Hedgesville Rd\, Martinsburg\, WV\, 25403\, United States
ATTACH;FMTTYPE=image/jpeg:https://lusttwo.3rfocuslabs.com/wp-content/uploads/2026/04/Power-Hour-scaled.jpg
END:VEVENT
BEGIN:VEVENT
DTSTART;VALUE=DATE:20260527
DTEND;VALUE=DATE:20260528
DTSTAMP:20260422T014232
CREATED:20260420T194759Z
LAST-MODIFIED:20260420T194759Z
UID:10003409-1779840000-1779926399@lusttwo.3rfocuslabs.com
SUMMARY:Wet & Wild Wednesdays @ Martinsburg
DESCRIPTION:HALF OFF hot tub and shower shows ALL NIGHT LONG!! \nAvailable every Wednesday at both locations.
URL:https://lusttwo.3rfocuslabs.com/event/wet-wild-wednesdays-martinsburg/2026-05-27/
LOCATION:Martinsburg\, 1110 Hedgesville Rd\, Martinsburg\, WV\, 25403\, United States
ATTACH;FMTTYPE=image/jpeg:https://lusttwo.3rfocuslabs.com/wp-content/uploads/2026/04/1.jpg
END:VEVENT
BEGIN:VEVENT
DTSTART;TZID=America/New_York:20260528T180000
DTEND;TZID=America/New_York:20260528T190000
DTSTAMP:20260422T014232
CREATED:20260420T193945Z
LAST-MODIFIED:20260420T194010Z
UID:10000809-1779991200-1779994800@lusttwo.3rfocuslabs.com
SUMMARY:Power Hour @ Martinsburg
DESCRIPTION:ONLY AT MARTINSBURG LUST GENTLEMEN’S CLUB!!  \nEvery Tuesday & Thursday from 6pm – 7pm\, get in with NO COVER CHARGE… FOR ALL!
URL:https://lusttwo.3rfocuslabs.com/event/power-hour-martinsburg/2026-05-28/
LOCATION:Martinsburg\, 1110 Hedgesville Rd\, Martinsburg\, WV\, 25403\, United States
ATTACH;FMTTYPE=image/jpeg:https://lusttwo.3rfocuslabs.com/wp-content/uploads/2026/04/Power-Hour-scaled.jpg
END:VEVENT
BEGIN:VEVENT
DTSTART;VALUE=DATE:20260601
DTEND;VALUE=DATE:20260602
DTSTAMP:20260422T014232
CREATED:20260420T193605Z
LAST-MODIFIED:20260420T193605Z
UID:10000025-1780272000-1780358399@lusttwo.3rfocuslabs.com
SUMMARY:Money Mondays @ Martinsburg
DESCRIPTION:ONLY AT MARTINSBURG LUST GENTLEMEN’S CLUB!!  \nGet HALF OFF all food\, drinks\, and dances all day and all night.
URL:https://lusttwo.3rfocuslabs.com/event/money-mondays-martinsburg/2026-06-01/
LOCATION:Martinsburg\, 1110 Hedgesville Rd\, Martinsburg\, WV\, 25403\, United States
ATTACH;FMTTYPE=image/jpeg:https://lusttwo.3rfocuslabs.com/wp-content/uploads/2026/04/MONEY-MONDAYS-scaled.jpg
END:VEVENT
BEGIN:VEVENT
DTSTART;TZID=America/New_York:20260602T180000
DTEND;TZID=America/New_York:20260602T190000
DTSTAMP:20260422T014232
CREATED:20260420T193945Z
LAST-MODIFIED:20260420T194010Z
UID:10000810-1780423200-1780426800@lusttwo.3rfocuslabs.com
SUMMARY:Power Hour @ Martinsburg
DESCRIPTION:ONLY AT MARTINSBURG LUST GENTLEMEN’S CLUB!!  \nEvery Tuesday & Thursday from 6pm – 7pm\, get in with NO COVER CHARGE… FOR ALL!
URL:https://lusttwo.3rfocuslabs.com/event/power-hour-martinsburg/2026-06-02/
LOCATION:Martinsburg\, 1110 Hedgesville Rd\, Martinsburg\, WV\, 25403\, United States
ATTACH;FMTTYPE=image/jpeg:https://lusttwo.3rfocuslabs.com/wp-content/uploads/2026/04/Power-Hour-scaled.jpg
END:VEVENT
BEGIN:VEVENT
DTSTART;VALUE=DATE:20260603
DTEND;VALUE=DATE:20260604
DTSTAMP:20260422T014232
CREATED:20260420T194759Z
LAST-MODIFIED:20260420T194759Z
UID:10003410-1780444800-1780531199@lusttwo.3rfocuslabs.com
SUMMARY:Wet & Wild Wednesdays @ Martinsburg
DESCRIPTION:HALF OFF hot tub and shower shows ALL NIGHT LONG!! \nAvailable every Wednesday at both locations.
URL:https://lusttwo.3rfocuslabs.com/event/wet-wild-wednesdays-martinsburg/2026-06-03/
LOCATION:Martinsburg\, 1110 Hedgesville Rd\, Martinsburg\, WV\, 25403\, United States
ATTACH;FMTTYPE=image/jpeg:https://lusttwo.3rfocuslabs.com/wp-content/uploads/2026/04/1.jpg
END:VEVENT
BEGIN:VEVENT
DTSTART;TZID=America/New_York:20260604T180000
DTEND;TZID=America/New_York:20260604T190000
DTSTAMP:20260422T014232
CREATED:20260420T193945Z
LAST-MODIFIED:20260420T194010Z
UID:10000811-1780596000-1780599600@lusttwo.3rfocuslabs.com
SUMMARY:Power Hour @ Martinsburg
DESCRIPTION:ONLY AT MARTINSBURG LUST GENTLEMEN’S CLUB!!  \nEvery Tuesday & Thursday from 6pm – 7pm\, get in with NO COVER CHARGE… FOR ALL!
URL:https://lusttwo.3rfocuslabs.com/event/power-hour-martinsburg/2026-06-04/
LOCATION:Martinsburg\, 1110 Hedgesville Rd\, Martinsburg\, WV\, 25403\, United States
ATTACH;FMTTYPE=image/jpeg:https://lusttwo.3rfocuslabs.com/wp-content/uploads/2026/04/Power-Hour-scaled.jpg
END:VEVENT
BEGIN:VEVENT
DTSTART;VALUE=DATE:20260608
DTEND;VALUE=DATE:20260609
DTSTAMP:20260422T014232
CREATED:20260420T193605Z
LAST-MODIFIED:20260420T193605Z
UID:10000026-1780876800-1780963199@lusttwo.3rfocuslabs.com
SUMMARY:Money Mondays @ Martinsburg
DESCRIPTION:ONLY AT MARTINSBURG LUST GENTLEMEN’S CLUB!!  \nGet HALF OFF all food\, drinks\, and dances all day and all night.
URL:https://lusttwo.3rfocuslabs.com/event/money-mondays-martinsburg/2026-06-08/
LOCATION:Martinsburg\, 1110 Hedgesville Rd\, Martinsburg\, WV\, 25403\, United States
ATTACH;FMTTYPE=image/jpeg:https://lusttwo.3rfocuslabs.com/wp-content/uploads/2026/04/MONEY-MONDAYS-scaled.jpg
END:VEVENT
BEGIN:VEVENT
DTSTART;TZID=America/New_York:20260609T180000
DTEND;TZID=America/New_York:20260609T190000
DTSTAMP:20260422T014232
CREATED:20260420T193945Z
LAST-MODIFIED:20260420T194010Z
UID:10000812-1781028000-1781031600@lusttwo.3rfocuslabs.com
SUMMARY:Power Hour @ Martinsburg
DESCRIPTION:ONLY AT MARTINSBURG LUST GENTLEMEN’S CLUB!!  \nEvery Tuesday & Thursday from 6pm – 7pm\, get in with NO COVER CHARGE… FOR ALL!
URL:https://lusttwo.3rfocuslabs.com/event/power-hour-martinsburg/2026-06-09/
LOCATION:Martinsburg\, 1110 Hedgesville Rd\, Martinsburg\, WV\, 25403\, United States
ATTACH;FMTTYPE=image/jpeg:https://lusttwo.3rfocuslabs.com/wp-content/uploads/2026/04/Power-Hour-scaled.jpg
END:VEVENT
BEGIN:VEVENT
DTSTART;VALUE=DATE:20260610
DTEND;VALUE=DATE:20260611
DTSTAMP:20260422T014232
CREATED:20260420T194759Z
LAST-MODIFIED:20260420T194759Z
UID:10003411-1781049600-1781135999@lusttwo.3rfocuslabs.com
SUMMARY:Wet & Wild Wednesdays @ Martinsburg
DESCRIPTION:HALF OFF hot tub and shower shows ALL NIGHT LONG!! \nAvailable every Wednesday at both locations.
URL:https://lusttwo.3rfocuslabs.com/event/wet-wild-wednesdays-martinsburg/2026-06-10/
LOCATION:Martinsburg\, 1110 Hedgesville Rd\, Martinsburg\, WV\, 25403\, United States
ATTACH;FMTTYPE=image/jpeg:https://lusttwo.3rfocuslabs.com/wp-content/uploads/2026/04/1.jpg
END:VEVENT
BEGIN:VEVENT
DTSTART;TZID=America/New_York:20260611T180000
DTEND;TZID=America/New_York:20260611T190000
DTSTAMP:20260422T014232
CREATED:20260420T193945Z
LAST-MODIFIED:20260420T194010Z
UID:10000813-1781200800-1781204400@lusttwo.3rfocuslabs.com
SUMMARY:Power Hour @ Martinsburg
DESCRIPTION:ONLY AT MARTINSBURG LUST GENTLEMEN’S CLUB!!  \nEvery Tuesday & Thursday from 6pm – 7pm\, get in with NO COVER CHARGE… FOR ALL!
URL:https://lusttwo.3rfocuslabs.com/event/power-hour-martinsburg/2026-06-11/
LOCATION:Martinsburg\, 1110 Hedgesville Rd\, Martinsburg\, WV\, 25403\, United States
ATTACH;FMTTYPE=image/jpeg:https://lusttwo.3rfocuslabs.com/wp-content/uploads/2026/04/Power-Hour-scaled.jpg
END:VEVENT
END:VCALENDAR